BEGIN:VCALENDAR
VERSION:2.0
PRODID:-// - ECPv6.10.2//NONSGML v1.0//EN
CALSCALE:GREGORIAN
METHOD:PUBLISH
X-ORIGINAL-URL:https://bearbaitradioclub.com
X-WR-CALDESC:Events for 
REFRESH-INTERVAL;VALUE=DURATION:PT1H
X-Robots-Tag:noindex
X-PUBLISHED-TTL:PT1H
BEGIN:VTIMEZONE
TZID:America/New_York
BEGIN:DAYLIGHT
TZOFFSETFROM:-0500
TZOFFSETTO:-0400
TZNAME:EDT
DTSTART:20260308T070000
END:DAYLIGHT
BEGIN:STANDARD
TZOFFSETFROM:-0400
TZOFFSETTO:-0500
TZNAME:EST
DTSTART:20261101T060000
END:STANDARD
END:VTIMEZONE
BEGIN:VEVENT
DTSTART;TZID=America/New_York:20260425T080000
DTEND;TZID=America/New_York:20260425T170000
DTSTAMP:20260420T072753
CREATED:20260329T025143Z
LAST-MODIFIED:20260329T050445Z
UID:3885-1777104000-1777136400@bearbaitradioclub.com
SUMMARY:VE Technician Class - DAY 1
DESCRIPTION:This 2 day class will prepare you for the FCC Amateur Technician Class exam. Students will need to purchase the Ham Radio License Manual\, Fifth Edition available from the ARRL. Students will need to read\, and become familiar with\, Chapters 1 through 4\, as this will make up the majority of Saturday’s lecture. VE testing session will occur after the class on Sunday. Please copy and paste the URL into your browser to access the registration form. https://forms.gle/GxgMRfwk6MkKLNbq5 \nCourse is for 2 days::\nSaturday & Sunday\n8:00 am – 5:00 pm \nMaterials Needed:\nARRL Ham Radio\nLicense Manual\n(5th Edition) &\n$14 exam fee
URL:https://bearbaitradioclub.com/index.php/event/ve-technician-class/
LOCATION:BBRC Headquarters – Clay Highway Bldg\, 4483 State Route 31\, Clay\, NY\, 13041\, United States
CATEGORIES:Training Sessions
ATTACH;FMTTYPE=image/png:https://bearbaitradioclub.com/wp-content/uploads/2026/03/class-e1774752682196.png
END:VEVENT
BEGIN:VEVENT
DTSTART;TZID=America/New_York:20260426T080000
DTEND;TZID=America/New_York:20260426T170000
DTSTAMP:20260420T072753
CREATED:20260329T025753Z
LAST-MODIFIED:20260329T025753Z
UID:3890-1777190400-1777222800@bearbaitradioclub.com
SUMMARY:VE Technician Class - DAY 2
DESCRIPTION:This is Day 2 of the VE Technician Class.\nPlease copy and paste the URL into your browser to access the registration form.\nhttps://forms.gle/GxgMRfwk6MkKLNbq5 
URL:https://bearbaitradioclub.com/index.php/event/ve-technician-class-day-2/
LOCATION:BBRC Headquarters – Clay Highway Bldg\, 4483 State Route 31\, Clay\, NY\, 13041\, United States
CATEGORIES:Training Sessions
ATTACH;FMTTYPE=image/png:https://bearbaitradioclub.com/wp-content/uploads/2026/03/class-e1774752682196.png
END:VEVENT
END:VCALENDAR