BEGIN:VCALENDAR
VERSION:2.0
PRODID:-// - ECPv6.10.2//NONSGML v1.0//EN
CALSCALE:GREGORIAN
METHOD:PUBLISH
X-ORIGINAL-URL:https://bearbaitradioclub.com
X-WR-CALDESC:Events for 
REFRESH-INTERVAL;VALUE=DURATION:PT1H
X-Robots-Tag:noindex
X-PUBLISHED-TTL:PT1H
BEGIN:VTIMEZONE
TZID:America/New_York
BEGIN:DAYLIGHT
TZOFFSETFROM:-0500
TZOFFSETTO:-0400
TZNAME:EDT
DTSTART:20260308T070000
END:DAYLIGHT
BEGIN:STANDARD
TZOFFSETFROM:-0400
TZOFFSETTO:-0500
TZNAME:EST
DTSTART:20261101T060000
END:STANDARD
END:VTIMEZONE
BEGIN:VEVENT
DTSTART;TZID=America/New_York:20260812T193000
DTEND;TZID=America/New_York:20260812T200000
DTSTAMP:20260420T140555
CREATED:20260329T042313Z
LAST-MODIFIED:20260329T042313Z
UID:3919-1786563000-1786564800@bearbaitradioclub.com
SUMMARY:August 2026 Monthly Net
DESCRIPTION:The BBRC Monthly Net for August will be on the Clay VHF repeater Wednesday\, August 12\, 2026 at 7:30 PM.
URL:https://bearbaitradioclub.com/index.php/event/august-2026-monthly-net/
LOCATION:BBRC Headquarters – Clay Highway Bldg\, 4483 State Route 31\, Clay\, NY\, 13041\, United States
CATEGORIES:Monthly Net
ATTACH;FMTTYPE=image/png:https://bearbaitradioclub.com/wp-content/uploads/2026/03/NETNIGHT.png
END:VEVENT
BEGIN:VEVENT
DTSTART;TZID=America/New_York:20260819T183000
DTEND;TZID=America/New_York:20260819T193000
DTSTAMP:20260420T140555
CREATED:20260329T044121Z
LAST-MODIFIED:20260329T044121Z
UID:3933-1787164200-1787167800@bearbaitradioclub.com
SUMMARY:August 2026 Monthly Meeting
DESCRIPTION:The regular monthly meeting for August will be on Wednesday\, August 19\, 2023 at 6:30 PM at the Club Headquarters behind the Clay Highway Department.
URL:https://bearbaitradioclub.com/index.php/event/august-2026-monthly-meeting/
LOCATION:BBRC Headquarters – Clay Highway Bldg\, 4483 State Route 31\, Clay\, NY\, 13041\, United States
CATEGORIES:Club Meeting
ATTACH;FMTTYPE=image/png:https://bearbaitradioclub.com/wp-content/uploads/2026/03/admin-ajax.php_.png
END:VEVENT
END:VCALENDAR