BEGIN:VCALENDAR
VERSION:2.0
PRODID:-// - ECPv6.10.2//NONSGML v1.0//EN
CALSCALE:GREGORIAN
METHOD:PUBLISH
X-ORIGINAL-URL:https://bearbaitradioclub.com
X-WR-CALDESC:Events for 
REFRESH-INTERVAL;VALUE=DURATION:PT1H
X-Robots-Tag:noindex
X-PUBLISHED-TTL:PT1H
BEGIN:VTIMEZONE
TZID:America/New_York
BEGIN:DAYLIGHT
TZOFFSETFROM:-0500
TZOFFSETTO:-0400
TZNAME:EDT
DTSTART:20180311T070000
END:DAYLIGHT
BEGIN:STANDARD
TZOFFSETFROM:-0400
TZOFFSETTO:-0500
TZNAME:EST
DTSTART:20181104T060000
END:STANDARD
BEGIN:DAYLIGHT
TZOFFSETFROM:-0500
TZOFFSETTO:-0400
TZNAME:EDT
DTSTART:20190310T070000
END:DAYLIGHT
BEGIN:STANDARD
TZOFFSETFROM:-0400
TZOFFSETTO:-0500
TZNAME:EST
DTSTART:20191103T060000
END:STANDARD
BEGIN:DAYLIGHT
TZOFFSETFROM:-0500
TZOFFSETTO:-0400
TZNAME:EDT
DTSTART:20200308T070000
END:DAYLIGHT
BEGIN:STANDARD
TZOFFSETFROM:-0400
TZOFFSETTO:-0500
TZNAME:EST
DTSTART:20201101T060000
END:STANDARD
BEGIN:DAYLIGHT
TZOFFSETFROM:-0500
TZOFFSETTO:-0400
TZNAME:EDT
DTSTART:20210314T070000
END:DAYLIGHT
BEGIN:STANDARD
TZOFFSETFROM:-0400
TZOFFSETTO:-0500
TZNAME:EST
DTSTART:20211107T060000
END:STANDARD
END:VTIMEZONE
BEGIN:VEVENT
DTSTART;TZID=America/New_York:20210512T153000
DTEND;TZID=America/New_York:20210512T163000
DTSTAMP:20260420T211541
CREATED:20210110T220127Z
LAST-MODIFIED:20210110T220224Z
UID:2962-1620833400-1620837000@bearbaitradioclub.com
SUMMARY:May 2021 Monthly Net
DESCRIPTION:The BBRC Monthly Net for May will be on the Clay VHF repeater Wednesday May 12\, 2021 at 7:30 PM.
URL:https://bearbaitradioclub.com/index.php/event/may-2021-monthly-net/
LOCATION:Clay VHF Repeater\, 146.640- MHz 131.8 PL\, Clay\, NY\, 13041\, United States
CATEGORIES:Monthly Net
ATTACH;FMTTYPE=image/jpeg:https://bearbaitradioclub.com/wp-content/uploads/2018/05/net-pics.jpg
END:VEVENT
BEGIN:VEVENT
DTSTART;TZID=America/New_York:20210424T040000
DTEND;TZID=America/New_York:20210425T130000
DTSTAMP:20260420T211541
CREATED:20210302T041333Z
LAST-MODIFIED:20210302T041414Z
UID:3030-1619236800-1619355600@bearbaitradioclub.com
SUMMARY:April 2021 Technician Licensing Weekend Class & VE Session
DESCRIPTION:Ham friends: \nOur next Technician class will be April 24 and 25 (2021) at the Bear Bait Radio Club World Headquarters (the former Clay PD Offices) in the Clay Highway Building (4483 Route 31)  in Clay\, NY.  Class will run from 8:00 AM to 5:00 PM Saturday and Sunday with the VE Testing Sunday at 5:00 PM. \nThere is no cost for the class.  There is a nominal cost for lunch or you can bring your own. \nThe VE Testing costs $14.00. \nIf you know of folks who want their tickets\, have them use the registration link below: \nOnline registration \nFor further information or questions\, please contact the instructor\, Scott Marriam\, at WA2DTN1@gmail.com. \nRegistration deadline is April 17\, 2021 at 6:00 PM. \nThank you
URL:https://bearbaitradioclub.com/index.php/event/april-2021-technician-licensing-weekend-class-ve-session/
LOCATION:BBRC Headquarters – Clay Highway Bldg\, 4483 State Route 31\, Clay\, NY\, 13041\, United States
CATEGORIES:Training Sessions
ATTACH;FMTTYPE=image/jpeg:https://bearbaitradioclub.com/wp-content/uploads/2018/11/BBRC_HQ.jpg
ORGANIZER;CN="WA2DTN":MAILTO:wa2dtn1@gmail.com
END:VEVENT
BEGIN:VEVENT
DTSTART;TZID=America/New_York:20210421T143000
DTEND;TZID=America/New_York:20210421T163000
DTSTAMP:20260420T211541
CREATED:20210110T223612Z
LAST-MODIFIED:20210110T223612Z
UID:2992-1619015400-1619022600@bearbaitradioclub.com
SUMMARY:April 2021 Monthly Meeting
DESCRIPTION:The regular monthly meeting for April will be on Wednesday April 21\, 2021 at 6:30 PM at the Club Headquarters behind the Clay Highway Department.
URL:https://bearbaitradioclub.com/index.php/event/april-2021-monthly-meeting/
LOCATION:BBRC Headquarters – Clay Highway Bldg\, 4483 State Route 31\, Clay\, NY\, 13041\, United States
CATEGORIES:Club Meeting
ATTACH;FMTTYPE=image/jpeg:https://bearbaitradioclub.com/wp-content/uploads/2018/05/MonthlyMeeting.jpg
END:VEVENT
BEGIN:VEVENT
DTSTART;TZID=America/New_York:20210414T153000
DTEND;TZID=America/New_York:20210414T163000
DTSTAMP:20260420T211541
CREATED:20210110T215959Z
LAST-MODIFIED:20210110T215959Z
UID:2960-1618414200-1618417800@bearbaitradioclub.com
SUMMARY:April 2021 Monthly Net
DESCRIPTION:The BBRC Monthly Net for April will be on the Clay VHF repeater Wednesday April 14\, 2021 at 7:30 PM.
URL:https://bearbaitradioclub.com/index.php/event/april-2021-monthly-net/
LOCATION:Clay VHF Repeater\, 146.640- MHz 131.8 PL\, Clay\, NY\, 13041\, United States
CATEGORIES:Monthly Net
ATTACH;FMTTYPE=image/jpeg:https://bearbaitradioclub.com/wp-content/uploads/2018/05/net-pics.jpg
END:VEVENT
BEGIN:VEVENT
DTSTART;TZID=America/New_York:20210317T143000
DTEND;TZID=America/New_York:20210317T163000
DTSTAMP:20260420T211541
CREATED:20210110T223455Z
LAST-MODIFIED:20210110T223455Z
UID:2990-1615991400-1615998600@bearbaitradioclub.com
SUMMARY:March 2021 Monthly Meeting
DESCRIPTION:The regular monthly meeting for March will be on Wednesday March 17\, 2021 at 6:30 PM at the Club Headquarters behind the Clay Highway Department.
URL:https://bearbaitradioclub.com/index.php/event/march-2021-monthly-meeting/
LOCATION:NY
CATEGORIES:Club Meeting
ATTACH;FMTTYPE=image/jpeg:https://bearbaitradioclub.com/wp-content/uploads/2018/05/MonthlyMeeting.jpg
END:VEVENT
BEGIN:VEVENT
DTSTART;TZID=America/New_York:20210310T143000
DTEND;TZID=America/New_York:20210310T153000
DTSTAMP:20260420T211541
CREATED:20210110T215819Z
LAST-MODIFIED:20210110T215819Z
UID:2958-1615386600-1615390200@bearbaitradioclub.com
SUMMARY:March 2021 Monthly Net
DESCRIPTION:The BBRC Monthly Net for March will be on the Clay VHF repeater Wednesday March 10\, 2021 at 7:30 PM.
URL:https://bearbaitradioclub.com/index.php/event/march-2021-monthly-net/
LOCATION:Clay VHF Repeater\, 146.640- MHz 131.8 PL\, Clay\, NY\, 13041\, United States
CATEGORIES:Monthly Net
ATTACH;FMTTYPE=image/jpeg:https://bearbaitradioclub.com/wp-content/uploads/2018/05/net-pics.jpg
END:VEVENT
BEGIN:VEVENT
DTSTART;TZID=America/New_York:20210220T030000
DTEND;TZID=America/New_York:20210221T120000
DTSTAMP:20260420T211541
CREATED:20210110T213805Z
LAST-MODIFIED:20210302T041745Z
UID:2951-1613790000-1613908800@bearbaitradioclub.com
SUMMARY:February 2021 Technician Licensing Weekend Class & VE Session
DESCRIPTION:Ham friends: \nOur next Technician class will be February 20 and 21 (2021) at the Bear Bait Radio Club World Headquarters (the former Clay PD Offices) in the Clay Highway Building (4483 Route 31)  in Clay\, NY.  Class will run from 8:00 AM to 5:00 PM Saturday and Sunday with the VE Testing Sunday at 5:00 PM. \nThere is no cost for the class.  There is a nominal cost for lunch or you can bring your own. \nThe VE Testing costs $14.00. \nIf you know of folks who want their tickets\, have them use the registration link below: \nOnline registration \nFor further information or questions\, please contact the instructor\, Scott Marriam\, at WA2DTN1@gmail.com. \nRegistration deadline is February 14\, 2021 at 6:00 PM. \nThank you
URL:https://bearbaitradioclub.com/index.php/event/february-2021-technician-licensing-weekend-class-ve-session/
LOCATION:BBRC Headquarters – Clay Highway Bldg\, 4483 State Route 31\, Clay\, NY\, 13041\, United States
CATEGORIES:Training Sessions
ATTACH;FMTTYPE=image/jpeg:https://bearbaitradioclub.com/wp-content/uploads/2018/11/BBRC_HQ.jpg
ORGANIZER;CN="WA2DTN":MAILTO:wa2dtn1@gmail.com
END:VEVENT
BEGIN:VEVENT
DTSTART;TZID=America/New_York:20210217T133000
DTEND;TZID=America/New_York:20210217T153000
DTSTAMP:20260420T211541
CREATED:20210110T223336Z
LAST-MODIFIED:20210110T223336Z
UID:2988-1613568600-1613575800@bearbaitradioclub.com
SUMMARY:February 2021 Monthly Meeting
DESCRIPTION:The regular monthly meeting for February will be on Wednesday February 17\, 2021 at 6:30 PM at the Club Headquarters behind the Clay Highway Department.
URL:https://bearbaitradioclub.com/index.php/event/february-2021-monthly-meeting/
LOCATION:BBRC Headquarters – Clay Highway Bldg\, 4483 State Route 31\, Clay\, NY\, 13041\, United States
CATEGORIES:Club Meeting
ATTACH;FMTTYPE=image/jpeg:https://bearbaitradioclub.com/wp-content/uploads/2018/05/MonthlyMeeting.jpg
END:VEVENT
BEGIN:VEVENT
DTSTART;TZID=America/New_York:20210210T143000
DTEND;TZID=America/New_York:20210210T153000
DTSTAMP:20260420T211541
CREATED:20210110T215433Z
LAST-MODIFIED:20210110T222118Z
UID:2956-1612967400-1612971000@bearbaitradioclub.com
SUMMARY:February 2021 Monthly Net
DESCRIPTION:The BBRC Monthly Net for February will be on the Clay VHF repeater Wednesday February 10\, 2021 at 7:30 PM.
URL:https://bearbaitradioclub.com/index.php/event/february-2021-monthly-net/
LOCATION:Clay VHF Repeater\, 146.640- MHz 131.8 PL\, Clay\, NY\, 13041\, United States
CATEGORIES:Monthly Net
ATTACH;FMTTYPE=image/jpeg:https://bearbaitradioclub.com/wp-content/uploads/2018/05/net-pics.jpg
END:VEVENT
BEGIN:VEVENT
DTSTART;TZID=America/New_York:20210120T133000
DTEND;TZID=America/New_York:20210120T153000
DTSTAMP:20260420T211541
CREATED:20210110T222437Z
LAST-MODIFIED:20210110T222545Z
UID:2985-1611149400-1611156600@bearbaitradioclub.com
SUMMARY:January 2021 Monthly Meeting
DESCRIPTION:The regular monthly meeting for January will be on Wednesday January 20\, 2021 at 6:30 PM at the Club Headquarters behind the Clay Highway Department.
URL:https://bearbaitradioclub.com/index.php/event/january-2021-monthly-meeting/
LOCATION:BBRC Headquarters – Clay Highway Bldg\, 4483 State Route 31\, Clay\, NY\, 13041\, United States
CATEGORIES:Club Meeting
ATTACH;FMTTYPE=image/jpeg:https://bearbaitradioclub.com/wp-content/uploads/2018/05/MonthlyMeeting.jpg
END:VEVENT
BEGIN:VEVENT
DTSTART;TZID=America/New_York:20210113T143000
DTEND;TZID=America/New_York:20210113T153000
DTSTAMP:20260420T211541
CREATED:20210110T214926Z
LAST-MODIFIED:20210110T215321Z
UID:2954-1610548200-1610551800@bearbaitradioclub.com
SUMMARY:January 2021 Monthly Net
DESCRIPTION:The BBRC Monthly Net for January will be on the Clay VHF repeater Wednesday January 13\, 2021 at 7:30 PM.
URL:https://bearbaitradioclub.com/index.php/event/january-2021-monthly-net/
LOCATION:Clay VHF Repeater\, 146.640- MHz 131.8 PL\, Clay\, NY\, 13041\, United States
CATEGORIES:Monthly Net
ATTACH;FMTTYPE=image/jpeg:https://bearbaitradioclub.com/wp-content/uploads/2018/05/net-pics.jpg
END:VEVENT
BEGIN:VEVENT
DTSTART;TZID=America/New_York:20210110T030000
DTEND;TZID=America/New_York:20210110T120000
DTSTAMP:20260420T211541
CREATED:20210110T223941Z
LAST-MODIFIED:20210110T223941Z
UID:2998-1610247600-1610280000@bearbaitradioclub.com
SUMMARY:July 2021 Monthly Meeting
DESCRIPTION:The regular monthly meeting for July will be on Wednesday July 21\, 2021 at 6:30 PM at the Club Headquarters behind the Clay Highway Department.
URL:https://bearbaitradioclub.com/index.php/event/july-2021-monthly-meeting/
LOCATION:BBRC Headquarters – Clay Highway Bldg\, 4483 State Route 31\, Clay\, NY\, 13041\, United States
CATEGORIES:Club Meeting
ATTACH;FMTTYPE=image/jpeg:https://bearbaitradioclub.com/wp-content/uploads/2018/05/MonthlyMeeting.jpg
END:VEVENT
BEGIN:VEVENT
DTSTART;TZID=America/New_York:20201114T030000
DTEND;TZID=America/New_York:20201115T120000
DTSTAMP:20260420T211541
CREATED:20201018T223835Z
LAST-MODIFIED:20201018T225614Z
UID:2848-1605322800-1605441600@bearbaitradioclub.com
SUMMARY:November 2020 Technician Licensing Weekend Class & VE Session
DESCRIPTION:Ham friends: \nOur next Technician class will be November 14 and 15 (2020) at the Bear Bait Radio Club World Headquarters (the former Clay PD Offices) in the Clay Highway Building (4483 Route 31)  in Clay\, NY.  Class will run from 8:00 AM to 5:00 PM Saturday and Sunday with the VE Testing Sunday at 5:00 PM. \nThere is no cost for the class.  There is a nominal cost for lunch or you can bring your own. \nThe VE Testing costs $14.00. \nIf you know of folks who want their tickets\, have them use the registration link below: \nOnline registration \nFor further information or questions\, please contact the instructor\, Scott Marriam\, at WA2DTN@gmail.com. \nRegistration deadline is November 7\, 2020 at 6:00 PM. \nThank you
URL:https://bearbaitradioclub.com/index.php/event/november-2020-technician-licensing-weekend-class-ve-session/
LOCATION:BBRC Headquarters – Clay Highway Bldg\, 4483 State Route 31\, Clay\, NY\, 13041\, United States
CATEGORIES:Training Sessions
ATTACH;FMTTYPE=image/jpeg:https://bearbaitradioclub.com/wp-content/uploads/2018/11/BBRC_HQ.jpg
ORGANIZER;CN="WA2DTN":MAILTO:wa2dtn1@gmail.com
END:VEVENT
BEGIN:VEVENT
DTSTART;TZID=America/New_York:20191116T030000
DTEND;TZID=America/New_York:20191117T120000
DTSTAMP:20260420T211541
CREATED:20190912T044445Z
LAST-MODIFIED:20190912T044445Z
UID:2698-1573873200-1573992000@bearbaitradioclub.com
SUMMARY:November 2019 Technician Licensing Weekend Class & VE Session
DESCRIPTION:Ham friends: \nOur next Technician class will be November 16 and 17 (2019) at our new Headquarters (the former Clay PD Offices) in the Clay Highway Building (4483 Route 31)  in Clay\, NY.  Class will run from 8:00 AM to 5:00 PM Saturday and Sunday with the VE Testing Sunday at 5:00 PM. \nThere is no cost for the class.  There is a nominal cost for lunch or you can bring your own. \nThe VE Testing costs $14.00. \nIf you know of folks who want their tickets\, have them use the registration link below: \nOnline registration \nFor further information or questions\, please contact the instructor\, Scott Marriam\, at WA2DTN@gmail.com. \nRegistration deadline is November 9\, 2019 at 6:00 PM. \nThank you
URL:https://bearbaitradioclub.com/index.php/event/november-2019-technician-licensing-weekend-class-ve-session/
LOCATION:BBRC Headquarters – Clay Highway Bldg\, 4483 State Route 31\, Clay\, NY\, 13041\, United States
CATEGORIES:Training Sessions
ATTACH;FMTTYPE=image/jpeg:https://bearbaitradioclub.com/wp-content/uploads/2018/11/BBRC_HQ.jpg
ORGANIZER;CN="WA2DTN":MAILTO:wa2dtn1@gmail.com
END:VEVENT
BEGIN:VEVENT
DTSTART;TZID=America/New_York:20190921T030000
DTEND;TZID=America/New_York:20190921T090000
DTSTAMP:20260420T211541
CREATED:20190912T045502Z
LAST-MODIFIED:20190912T045529Z
UID:2700-1569034800-1569056400@bearbaitradioclub.com
SUMMARY:Tailgate Fest 2019
DESCRIPTION:The annual Bear Bait Radio Club TailGate Fest is scheduled for Saturday\, September 21\, 2019 from 7:00 AM until 1:00 PM at the Bear Bait Radio Club HQ.  HQ is located at the Town of Clay highway department building 4483 State Route 31\, Clay\, NY 13041.  Admission: $5.00.  Vendors tables: $5.00.  Everyone is invited to come on over and find some bargains and fellowship.
URL:https://bearbaitradioclub.com/index.php/event/tailgate-fest-2019/
LOCATION:BBRC Headquarters – Clay Highway Bldg\, 4483 State Route 31\, Clay\, NY\, 13041\, United States
ATTACH;FMTTYPE=image/jpeg:https://bearbaitradioclub.com/wp-content/uploads/2018/11/BBRC_HQ.jpg
END:VEVENT
BEGIN:VEVENT
DTSTART;VALUE=DATE:20190620
DTEND;VALUE=DATE:20190624
DTSTAMP:20260420T211541
CREATED:20181202T085939Z
LAST-MODIFIED:20181206T044631Z
UID:1909-1561060800-1561319999@bearbaitradioclub.com
SUMMARY:2019 Field Day Weekend
DESCRIPTION:Bear Bait Radio Club will participate in the annual ARRL Field Day activities at Mount Sabattis Park in Long Lake. \nDetails to follow
URL:https://bearbaitradioclub.com/index.php/event/2019-field-day-weekend/
LOCATION:Mount Sabattis Park\, 46 Pavillion Rd\,\, Long Lake\, NY\, 12847\, United States
CATEGORIES:Special Event
ATTACH;FMTTYPE=image/jpeg:https://bearbaitradioclub.com/wp-content/uploads/2018/05/fd-2.jpg
END:VEVENT
BEGIN:VEVENT
DTSTART;TZID=America/New_York:20190405T040000
DTEND;TZID=America/New_York:20190405T130000
DTSTAMP:20260420T211541
CREATED:20190405T192650Z
LAST-MODIFIED:20190405T193045Z
UID:2615-1554436800-1554469200@bearbaitradioclub.com
SUMMARY:April 2019 Technician Licensing Weekend Class & VE Session
DESCRIPTION:Ham friends: \nOur next Technician class will be April 27 and 28 (2019) at our new Headquarters (the former Clay PD Offices) in the Clay Highway Building (4483 Route 31)  in Clay\, NY.  Class will run from 8:00 AM to 5:00 PM Saturday and Sunday with the VE Testing Sunday at 5:00 PM. \nThere is no cost for the class.  There is a nominal cost for lunch or you can bring your own. \nThe VE Testing costs $14.00. \nIf you know of folks who want their tickets\, have them use the registration link below: \nOnline registration \nFor further information or questions\, please contact the instructor\, Scott Marriam\, at WA2DTN@gmail.com. \nRegistration deadline is April 20\, 2019 at 6:00 PM. \nThank you
URL:https://bearbaitradioclub.com/index.php/event/april-2019-technician-licensing-weekend-class-ve-session/
LOCATION:BBRC Headquarters – Clay Highway Bldg\, 4483 State Route 31\, Clay\, NY\, 13041\, United States
CATEGORIES:Training Sessions
ATTACH;FMTTYPE=image/jpeg:https://bearbaitradioclub.com/wp-content/uploads/2018/11/BBRC_HQ.jpg
END:VEVENT
BEGIN:VEVENT
DTSTART;TZID=America/New_York:20190320T143000
DTEND;TZID=America/New_York:20190320T163000
DTSTAMP:20260420T211541
CREATED:20181202T084540Z
LAST-MODIFIED:20181206T044214Z
UID:1900-1553092200-1553099400@bearbaitradioclub.com
SUMMARY:March Monthly Meeting
DESCRIPTION:The regular monthly meeting for February will be on Wednesday March 20\, 2019 at 6:30 PM at the Club Headquarters behind the Clay Highway Department.
URL:https://bearbaitradioclub.com/index.php/event/march-monthly-meeting/
LOCATION:BBRC Headquarters – Clay Highway Bldg\, 4483 State Route 31\, Clay\, NY\, 13041\, United States
CATEGORIES:Club Meeting
ATTACH;FMTTYPE=image/jpeg:https://bearbaitradioclub.com/wp-content/uploads/2018/05/MonthlyMeeting.jpg
END:VEVENT
BEGIN:VEVENT
DTSTART;TZID=America/New_York:20190313T153000
DTEND;TZID=America/New_York:20190313T163000
DTSTAMP:20260420T211541
CREATED:20181202T085138Z
LAST-MODIFIED:20181206T044023Z
UID:1906-1552491000-1552494600@bearbaitradioclub.com
SUMMARY:BBRC March Monthly Net
DESCRIPTION:The BBRC Monthly Net for March will be on the Clay VHF repeater Wednesday Marcy 13\, 2019 at 7:30 PM.
URL:https://bearbaitradioclub.com/index.php/event/bbrc-march-monthly-net/
LOCATION:Clay VHF Repeater\, 146.640- MHz 131.8 PL\, Clay\, NY\, 13041\, United States
CATEGORIES:Monthly Net
ATTACH;FMTTYPE=image/jpeg:https://bearbaitradioclub.com/wp-content/uploads/2018/05/net-pics.jpg
END:VEVENT
BEGIN:VEVENT
DTSTART;TZID=America/New_York:20190220T133000
DTEND;TZID=America/New_York:20190220T153000
DTSTAMP:20260420T211541
CREATED:20181202T084339Z
LAST-MODIFIED:20181206T043401Z
UID:1898-1550669400-1550676600@bearbaitradioclub.com
SUMMARY:February Monthly Meeting
DESCRIPTION:The regular monthly meeting for February will be on Wednesday February 20\, 2019 at 6:30 PM at the Club Headquarters behind the Clay Highway Department.
URL:https://bearbaitradioclub.com/index.php/event/february-monthly-meeting/
LOCATION:BBRC Headquarters – Clay Highway Bldg\, 4483 State Route 31\, Clay\, NY\, 13041\, United States
CATEGORIES:Club Meeting
ATTACH;FMTTYPE=image/jpeg:https://bearbaitradioclub.com/wp-content/uploads/2018/05/MonthlyMeeting.jpg
END:VEVENT
BEGIN:VEVENT
DTSTART;TZID=America/New_York:20190213T143000
DTEND;TZID=America/New_York:20190213T153000
DTSTAMP:20260420T211541
CREATED:20181202T085001Z
LAST-MODIFIED:20181206T043946Z
UID:1904-1550068200-1550071800@bearbaitradioclub.com
SUMMARY:BBRC February Monthly Net
DESCRIPTION:The BBRC Monthly Net for February will be on the Clay VHF repeater Wednesday February 13\, 2019 at 7:30 PM.
URL:https://bearbaitradioclub.com/index.php/event/bbrc-february-monthly-net/
LOCATION:Clay VHF Repeater\, 146.640- MHz 131.8 PL\, Clay\, NY\, 13041\, United States
CATEGORIES:Monthly Net
ATTACH;FMTTYPE=image/jpeg:https://bearbaitradioclub.com/wp-content/uploads/2018/05/net-pics.jpg
END:VEVENT
BEGIN:VEVENT
DTSTART;TZID=America/New_York:20190209T030000
DTEND;TZID=America/New_York:20190210T120000
DTSTAMP:20260420T211541
CREATED:20181128T053943Z
LAST-MODIFIED:20181206T050410Z
UID:495-1549681200-1549800000@bearbaitradioclub.com
SUMMARY:February 2019 Technician Licensing Weekend Class & VE Session
DESCRIPTION:Ham friends: \nOur next Technician class will be February 9 and 10 (2019) at our new Headquarters (the former Clay PD Offices) in the Clay Highway Building (4483 Route 31)  in Clay\, NY.  Class will run from 8:00 AM to 5:00 PM Saturday and Sunday with the VE Testing Sunday at 5:00 PM. \nThere is no cost for the class.  There is a nominal cost for lunch or you can bring your own. \nThe VE Testing costs $14.00. \nIf you know of folks who want their tickets\, have them use the registration link below: \nOnline registration \nFor further information or questions\, please contact the instructor\, Scott Marriam\, at WA2DTN@gmail.com. \nRegistration deadline is February 2\, 2019 at 6:00 PM. \nThank you \n  \n 
URL:https://bearbaitradioclub.com/index.php/event/february-2019-technician-licensing-weekend-class-ve-session/
LOCATION:BBRC Headquarters – Clay Highway Bldg\, 4483 State Route 31\, Clay\, NY\, 13041\, United States
CATEGORIES:Training Sessions
ATTACH;FMTTYPE=image/jpeg:https://bearbaitradioclub.com/wp-content/uploads/2018/11/BBRC_HQ.jpg
END:VEVENT
BEGIN:VEVENT
DTSTART;TZID=America/New_York:20190116T133000
DTEND;TZID=America/New_York:20190116T153000
DTSTAMP:20260420T211541
CREATED:20181202T084004Z
LAST-MODIFIED:20181206T044052Z
UID:1896-1547645400-1547652600@bearbaitradioclub.com
SUMMARY:January Club Meeting
DESCRIPTION:Bear Bait Radio Club will hold it January monthly meeting on January 16\, 2019 at 6:30 PM at the Club Headquarters behind the Clay Highway Department.
URL:https://bearbaitradioclub.com/index.php/event/january-club-meeting/
LOCATION:BBRC Headquarters – Clay Highway Bldg\, 4483 State Route 31\, Clay\, NY\, 13041\, United States
CATEGORIES:Club Meeting
ATTACH;FMTTYPE=image/jpeg:https://bearbaitradioclub.com/wp-content/uploads/2018/05/MonthlyMeeting.jpg
END:VEVENT
BEGIN:VEVENT
DTSTART;TZID=America/New_York:20190109T143000
DTEND;TZID=America/New_York:20190109T153000
DTSTAMP:20260420T211541
CREATED:20181202T084832Z
LAST-MODIFIED:20181206T043917Z
UID:1902-1547044200-1547047800@bearbaitradioclub.com
SUMMARY:BBRC January Monthly Net
DESCRIPTION:The BBRC Monthly Net for January will be on the Clay VHF repeater Wednesday January 9\, 2019 at 7:30 PM.
URL:https://bearbaitradioclub.com/index.php/event/bbrc-january-monthly-net/
LOCATION:Clay VHF Repeater\, 146.640- MHz 131.8 PL\, Clay\, NY\, 13041\, United States
CATEGORIES:Monthly Net
ATTACH;FMTTYPE=image/jpeg:https://bearbaitradioclub.com/wp-content/uploads/2018/05/net-pics.jpg
END:VEVENT
BEGIN:VEVENT
DTSTART;TZID=America/New_York:20181219T130000
DTEND;TZID=America/New_York:20181219T160000
DTSTAMP:20260420T211541
CREATED:20181122T065727Z
LAST-MODIFIED:20181206T043743Z
UID:470-1545224400-1545235200@bearbaitradioclub.com
SUMMARY:December Meeting / Christmas Party
DESCRIPTION:The December Meeting and Christmas party will be held at the Clay historical Building on Wednesday December 19 at 6:00 PM. \n  \nPlease RSVP Secretary
URL:https://bearbaitradioclub.com/index.php/event/december-meeting-christmas-party/
LOCATION:Clay Historical Park\, 4939 Route 31\, Clay\, NY\, 13041\, United States
CATEGORIES:Club Meeting
ATTACH;FMTTYPE=image/jpeg:https://bearbaitradioclub.com/wp-content/uploads/2018/05/MonthlyMeeting.jpg
END:VEVENT
BEGIN:VEVENT
DTSTART;TZID=America/New_York:20181212T143000
DTEND;TZID=America/New_York:20181212T153000
DTSTAMP:20260420T211541
CREATED:20181122T070009Z
LAST-MODIFIED:20181206T043628Z
UID:472-1544625000-1544628600@bearbaitradioclub.com
SUMMARY:December Club Net
DESCRIPTION:The December Bear Bait Radio Club Net will be on the Clay VHF repeater on Wednesday\, December 12 at 7:30 PM.
URL:https://bearbaitradioclub.com/index.php/event/december-club-net/
LOCATION:Clay VHF Repeater\, 146.640- MHz 131.8 PL\, Clay\, NY\, 13041\, United States
CATEGORIES:Monthly Net
ATTACH;FMTTYPE=image/jpeg:https://bearbaitradioclub.com/wp-content/uploads/2018/05/net-pics.jpg
END:VEVENT
BEGIN:VEVENT
DTSTART;TZID=America/New_York:20181118T070000
DTEND;TZID=America/New_York:20181119T160000
DTSTAMP:20260420T211541
CREATED:20180524T041258Z
LAST-MODIFIED:20180924T060308Z
UID:209-1542524400-1542643200@bearbaitradioclub.com
SUMMARY:Technician - Two Day Class (Entry Level)
DESCRIPTION:This two-day class will prepare you for the FCC Amateur Technician Class exam. Students will need to purchase the Ham Radio License Manual\, Fourth Edition\, available from the ARRL. \nStudents will need to read and become familiar with Chapters 1-4\, as this will make up the majority of Saturday’s lecture. \nVE testing will occur after the class on Sunday. Class is 8am -5PM both days Saturday & Sunday). \nThere is no charge for the class\, but the VE Exam costs $15.00. \nPlease register via email to the instructor\, Scott Marriam at WA2DTN@gmail.com for more information.
URL:https://bearbaitradioclub.com/index.php/event/sample-ve-session/
LOCATION:Clay Historical Park\, 4939 Route 31\, Clay\, NY\, 13041\, United States
CATEGORIES:Training Sessions
ATTACH;FMTTYPE=image/jpeg:https://bearbaitradioclub.com/wp-content/uploads/2018/05/4xham.jpeg
END:VEVENT
BEGIN:VEVENT
DTSTART;TZID=America/New_York:20181114T183000
DTEND;TZID=America/New_York:20181114T203000
DTSTAMP:20260420T211541
CREATED:20180924T060448Z
LAST-MODIFIED:20181107T052511Z
UID:374-1542220200-1542227400@bearbaitradioclub.com
SUMMARY:November Meeting - Date Changed
DESCRIPTION:The November Meeting of the Bear Bait Radio Club will be moved ahead a week to November 14 to avoid the Thanksgiving holidays.
URL:https://bearbaitradioclub.com/index.php/event/november-meeting-date-changed/
LOCATION:Clay Historical Park\, 4939 Route 31\, Clay\, NY\, 13041\, United States
CATEGORIES:Club Meeting
ATTACH;FMTTYPE=image/jpeg:https://bearbaitradioclub.com/wp-content/uploads/2018/05/MonthlyMeeting.jpg
END:VEVENT
BEGIN:VEVENT
DTSTART;TZID=America/New_York:20181017T143000
DTEND;TZID=America/New_York:20181017T160000
DTSTAMP:20260420T211541
CREATED:20180517T223018Z
LAST-MODIFIED:20180524T015507Z
UID:85-1539786600-1539792000@bearbaitradioclub.com
SUMMARY:October Club Meeting
DESCRIPTION:This is the monthly membership meeting of the Bear Bait Radio Club.
URL:https://bearbaitradioclub.com/index.php/event/october-club-meeting/
LOCATION:Clay Historical Park\, 4939 Route 31\, Clay\, NY\, 13041\, United States
CATEGORIES:Club Meeting
ATTACH;FMTTYPE=image/jpeg:https://bearbaitradioclub.com/wp-content/uploads/2018/05/MonthlyMeeting.jpg
END:VEVENT
BEGIN:VEVENT
DTSTART;TZID=America/New_York:20181010T153000
DTEND;TZID=America/New_York:20181010T163000
DTSTAMP:20260420T211541
CREATED:20180524T193750Z
LAST-MODIFIED:20180524T193750Z
UID:304-1539185400-1539189000@bearbaitradioclub.com
SUMMARY:October Club Net
DESCRIPTION:Check-in to our 2 meter net on the second Wednesday of every month. It is open to all amateurs and is hosted on our Clay repeater 146.640- MHz PL 131.8 in and out.
URL:https://bearbaitradioclub.com/index.php/event/october-club-net/
LOCATION:Clay VHF Repeater\, 146.640- MHz 131.8 PL\, Clay\, NY\, 13041\, United States
CATEGORIES:Monthly Net
ATTACH;FMTTYPE=image/jpeg:https://bearbaitradioclub.com/wp-content/uploads/2018/05/net-pics.jpg
END:VEVENT
END:VCALENDAR