BEGIN:VCALENDAR
VERSION:2.0
PRODID:-// - ECPv6.10.2//NONSGML v1.0//EN
CALSCALE:GREGORIAN
METHOD:PUBLISH
X-ORIGINAL-URL:https://bearbaitradioclub.com
X-WR-CALDESC:Events for 
REFRESH-INTERVAL;VALUE=DURATION:PT1H
X-Robots-Tag:noindex
X-PUBLISHED-TTL:PT1H
BEGIN:VTIMEZONE
TZID:America/New_York
BEGIN:DAYLIGHT
TZOFFSETFROM:-0500
TZOFFSETTO:-0400
TZNAME:EDT
DTSTART:20210314T070000
END:DAYLIGHT
BEGIN:STANDARD
TZOFFSETFROM:-0400
TZOFFSETTO:-0500
TZNAME:EST
DTSTART:20211107T060000
END:STANDARD
BEGIN:DAYLIGHT
TZOFFSETFROM:-0500
TZOFFSETTO:-0400
TZNAME:EDT
DTSTART:20220313T070000
END:DAYLIGHT
BEGIN:STANDARD
TZOFFSETFROM:-0400
TZOFFSETTO:-0500
TZNAME:EST
DTSTART:20221106T060000
END:STANDARD
END:VTIMEZONE
BEGIN:VEVENT
DTSTART;TZID=America/New_York:20220921T183000
DTEND;TZID=America/New_York:20220921T203000
DTSTAMP:20260420T174838
CREATED:20220419T003453Z
LAST-MODIFIED:20220418T205648Z
UID:3281-1663785000-1663792200@bearbaitradioclub.com
SUMMARY:September 2022 Monthly Meeting
DESCRIPTION:The regular monthly meeting for September will be on Wednesday September 21\, 2022 at 6:30 PM at the Club Headquarters behind the Clay Highway Department.
URL:https://bearbaitradioclub.com/index.php/event/september-2022-monthly-meeting/
LOCATION:BBRC Headquarters – Clay Highway Bldg\, 4483 State Route 31\, Clay\, NY\, 13041\, United States
CATEGORIES:Club Meeting
ATTACH;FMTTYPE=image/jpeg:https://bearbaitradioclub.com/wp-content/uploads/2018/05/MonthlyMeeting.jpg
END:VEVENT
BEGIN:VEVENT
DTSTART;TZID=America/New_York:20220917T070000
DTEND;TZID=America/New_York:20220917T130000
DTSTAMP:20260420T174838
CREATED:20220419T001959Z
LAST-MODIFIED:20220418T210925Z
UID:3267-1663398000-1663419600@bearbaitradioclub.com
SUMMARY:September 2022 Tailgate Fest
DESCRIPTION:Admission: $5\nTailgating/vendors: $5 \nJoin us for our Annual Tailgate Fest at the Bear Bait Radio Headquarters
URL:https://bearbaitradioclub.com/index.php/event/september-2022-tailgate-fest/
LOCATION:BBRC Headquarters – Clay Highway Bldg\, 4483 State Route 31\, Clay\, NY\, 13041\, United States
CATEGORIES:Special Event
ATTACH;FMTTYPE=image/jpeg:https://bearbaitradioclub.com/wp-content/uploads/2018/05/Bear-Bait-Logo-1.1-e1629396122782.jpg
END:VEVENT
BEGIN:VEVENT
DTSTART;TZID=America/New_York:20220914T193000
DTEND;TZID=America/New_York:20220914T200000
DTSTAMP:20260420T174838
CREATED:20220419T004838Z
LAST-MODIFIED:20220418T205559Z
UID:3301-1663183800-1663185600@bearbaitradioclub.com
SUMMARY:September 2022 Monthly Net
DESCRIPTION:The BBRC Monthly Net for September will be on the Clay VHF repeater Wednesday September 14\, 2022 at 7:30 PM.
URL:https://bearbaitradioclub.com/index.php/event/september-2022-monthly-net/
LOCATION:Clay VHF Repeater\, 146.640- MHz 131.8 PL\, Clay\, NY\, 13041\, United States
CATEGORIES:Monthly Net
ATTACH;FMTTYPE=image/jpeg:https://bearbaitradioclub.com/wp-content/uploads/2018/05/net-pics.jpg
END:VEVENT
BEGIN:VEVENT
DTSTART;TZID=America/New_York:20220817T183000
DTEND;TZID=America/New_York:20220817T203000
DTSTAMP:20260420T174838
CREATED:20220419T003334Z
LAST-MODIFIED:20220418T205538Z
UID:3278-1660761000-1660768200@bearbaitradioclub.com
SUMMARY:August 2022 Monthly Meeting
DESCRIPTION:The regular monthly meeting for August will be on Wednesday August 17\, 2022 at 6:30 PM at the Club Headquarters behind the Clay Highway Department.
URL:https://bearbaitradioclub.com/index.php/event/august-2022-monthly-meeting/
LOCATION:BBRC Headquarters – Clay Highway Bldg\, 4483 State Route 31\, Clay\, NY\, 13041\, United States
CATEGORIES:Club Meeting
ATTACH;FMTTYPE=image/jpeg:https://bearbaitradioclub.com/wp-content/uploads/2018/05/MonthlyMeeting.jpg
END:VEVENT
BEGIN:VEVENT
DTSTART;TZID=America/New_York:20220810T193000
DTEND;TZID=America/New_York:20220810T200000
DTSTAMP:20260420T174838
CREATED:20220419T004711Z
LAST-MODIFIED:20220418T205506Z
UID:3299-1660159800-1660161600@bearbaitradioclub.com
SUMMARY:August 2022 Monthly Net
DESCRIPTION:The BBRC Monthly Net for August will be on the Clay VHF repeater Wednesday August 10\, 2022 at 7:30 PM.
URL:https://bearbaitradioclub.com/index.php/event/august-2022-monthly-net/
LOCATION:Clay VHF Repeater\, 146.640- MHz 131.8 PL\, Clay\, NY\, 13041\, United States
CATEGORIES:Monthly Net
ATTACH;FMTTYPE=image/jpeg:https://bearbaitradioclub.com/wp-content/uploads/2018/05/net-pics.jpg
END:VEVENT
BEGIN:VEVENT
DTSTART;TZID=America/New_York:20220720T183000
DTEND;TZID=America/New_York:20220720T203000
DTSTAMP:20260420T174838
CREATED:20220419T003245Z
LAST-MODIFIED:20240109T072058Z
UID:3276-1658341800-1658349000@bearbaitradioclub.com
SUMMARY:July 2022 Monthly Meeting
DESCRIPTION:The regular monthly meeting for July will be on Wednesday July 20\, 2022 at 6:30 PM at the Club Headquarters behind the Clay Highway Department.
URL:https://bearbaitradioclub.com/index.php/event/july-2022-monthly-meeting/
LOCATION:BBRC Headquarters – Clay Highway Bldg\, 4483 State Route 31\, Clay\, NY\, 13041\, United States
CATEGORIES:Club Meeting
ATTACH;FMTTYPE=image/jpeg:https://bearbaitradioclub.com/wp-content/uploads/2018/05/MonthlyMeeting.jpg
END:VEVENT
BEGIN:VEVENT
DTSTART;TZID=America/New_York:20220713T193000
DTEND;TZID=America/New_York:20220713T200000
DTSTAMP:20260420T174838
CREATED:20220419T004552Z
LAST-MODIFIED:20220418T210659Z
UID:3297-1657740600-1657742400@bearbaitradioclub.com
SUMMARY:July 2022 Monthly Net
DESCRIPTION:The BBRC Monthly Net for July will be on the Clay VHF repeater Wednesday July 13\, 2022 at 7:30 PM.
URL:https://bearbaitradioclub.com/index.php/event/july-2022-monthly-net/
LOCATION:Clay VHF Repeater\, 146.640- MHz 131.8 PL\, Clay\, NY\, 13041\, United States
CATEGORIES:Monthly Net
ATTACH;FMTTYPE=image/jpeg:https://bearbaitradioclub.com/wp-content/uploads/2018/05/net-pics.jpg
END:VEVENT
BEGIN:VEVENT
DTSTART;TZID=America/New_York:20220622T183000
DTEND;TZID=America/New_York:20220622T203000
DTSTAMP:20260420T174838
CREATED:20220419T003111Z
LAST-MODIFIED:20220418T210631Z
UID:3273-1655922600-1655929800@bearbaitradioclub.com
SUMMARY:June 2022 Monthly Meeting
DESCRIPTION:The regular monthly meeting for June will be on Wednesday June 16\, 2022 at 6:30 PM at the Club Headquarters behind the Clay Highway Department.
URL:https://bearbaitradioclub.com/index.php/event/june-2022-monthly-meeting/
LOCATION:BBRC Headquarters – Clay Highway Bldg\, 4483 State Route 31\, Clay\, NY\, 13041\, United States
CATEGORIES:Club Meeting
ATTACH;FMTTYPE=image/jpeg:https://bearbaitradioclub.com/wp-content/uploads/2018/05/MonthlyMeeting.jpg
END:VEVENT
BEGIN:VEVENT
DTSTART;TZID=America/New_York:20220608T193000
DTEND;TZID=America/New_York:20220608T200000
DTSTAMP:20260420T174838
CREATED:20220419T004333Z
LAST-MODIFIED:20220418T210608Z
UID:3294-1654716600-1654718400@bearbaitradioclub.com
SUMMARY:June 2022 Monthly Net
DESCRIPTION:The BBRC Monthly Net for June will be on the Clay VHF repeater Wednesday June 8\, 2022 at 7:30 PM.
URL:https://bearbaitradioclub.com/index.php/event/june-2022-monthly-net/
LOCATION:Clay VHF Repeater\, 146.640- MHz 131.8 PL\, Clay\, NY\, 13041\, United States
CATEGORIES:Monthly Net
ATTACH;FMTTYPE=image/jpeg:https://bearbaitradioclub.com/wp-content/uploads/2018/05/net-pics.jpg
END:VEVENT
BEGIN:VEVENT
DTSTART;TZID=America/New_York:20220518T183000
DTEND;TZID=America/New_York:20220518T203000
DTSTAMP:20260420T174838
CREATED:20220419T002955Z
LAST-MODIFIED:20220418T205207Z
UID:3271-1652898600-1652905800@bearbaitradioclub.com
SUMMARY:May 2022 Monthly Meeting
DESCRIPTION:The regular monthly meeting for May will be on Wednesday May 18\, 2022 at 6:30 PM at the Club Headquarters behind the Clay Highway Department.
URL:https://bearbaitradioclub.com/index.php/event/may-2022-monthly-meeting/
LOCATION:BBRC Headquarters – Clay Highway Bldg\, 4483 State Route 31\, Clay\, NY\, 13041\, United States
CATEGORIES:Club Meeting
ATTACH;FMTTYPE=image/jpeg:https://bearbaitradioclub.com/wp-content/uploads/2018/05/MonthlyMeeting.jpg
END:VEVENT
BEGIN:VEVENT
DTSTART;TZID=America/New_York:20220511T193000
DTEND;TZID=America/New_York:20220511T200000
DTSTAMP:20260420T174838
CREATED:20220419T004220Z
LAST-MODIFIED:20220418T210529Z
UID:3292-1652297400-1652299200@bearbaitradioclub.com
SUMMARY:May 2022 Monthly Net
DESCRIPTION:The BBRC Monthly Net for May will be on the Clay VHF repeater Wednesday May 11\, 2022 at 7:30 PM.
URL:https://bearbaitradioclub.com/index.php/event/may-2022-monthly-net/
LOCATION:Clay VHF Repeater\, 146.640- MHz 131.8 PL\, Clay\, NY\, 13041\, United States
CATEGORIES:Monthly Net
ATTACH;FMTTYPE=image/jpeg:https://bearbaitradioclub.com/wp-content/uploads/2018/05/net-pics.jpg
END:VEVENT
BEGIN:VEVENT
DTSTART;TZID=America/New_York:20220423T080000
DTEND;TZID=America/New_York:20220424T170000
DTSTAMP:20260420T174838
CREATED:20220307T003423Z
LAST-MODIFIED:20220418T211021Z
UID:3239-1650700800-1650819600@bearbaitradioclub.com
SUMMARY:April 2022 Technician Licensing Weekend Class & VE Session
DESCRIPTION:Ham friends: \nOur next Technician class will be April 23 and 24 (2022) at the Bear Bait Radio Club World Headquarters (the former Clay PD Offices) in the Clay Highway Building (4483 Route 31)  in Clay\, NY.  Class will run from 8:00 AM to 5:00 PM Saturday and Sunday with the VE Testing Sunday at 5:00 PM. \nThere is no cost for the class.  There is a nominal cost for lunch or you can bring your own. \nThe VE Testing costs $14.00. \nIf you know of folks who want their tickets\, have them use the registration link below or the form at the bottom of this post: \nOnline registration \nFor further information or questions\, please contact the instructor\, Scott Marriam\, at WA2DTN1@gmail.com. \nRegistration deadline is April 16\, 2022 at 6:00 PM. \nThank you
URL:https://bearbaitradioclub.com/index.php/event/april-2022-technician-licensing-weekend-class-ve-session/
LOCATION:BBRC Headquarters – Clay Highway Bldg\, 4483 State Route 31\, Clay\, NY\, 13041\, United States
CATEGORIES:Training Sessions
ATTACH;FMTTYPE=image/jpeg:https://bearbaitradioclub.com/wp-content/uploads/2018/11/BBRC_HQ.jpg
ORGANIZER;CN="WA2DTN":MAILTO:wa2dtn1@gmail.com
END:VEVENT
BEGIN:VEVENT
DTSTART;TZID=America/New_York:20220420T183000
DTEND;TZID=America/New_York:20220420T203000
DTSTAMP:20260420T174838
CREATED:20220419T002829Z
LAST-MODIFIED:20220418T205225Z
UID:3269-1650479400-1650486600@bearbaitradioclub.com
SUMMARY:April 2022 Monthly Meeting
DESCRIPTION:The regular monthly meeting for April will be on Wednesday April 20\, 2022 at 6:30 PM at the Club Headquarters behind the Clay Highway Department.
URL:https://bearbaitradioclub.com/index.php/event/april-2022-monthly-meeting/
LOCATION:BBRC Headquarters – Clay Highway Bldg\, 4483 State Route 31\, Clay\, NY\, 13041\, United States
CATEGORIES:Club Meeting
ATTACH;FMTTYPE=image/jpeg:https://bearbaitradioclub.com/wp-content/uploads/2018/05/MonthlyMeeting.jpg
END:VEVENT
BEGIN:VEVENT
DTSTART;TZID=America/New_York:20220219T030000
DTEND;TZID=America/New_York:20220220T120000
DTSTAMP:20260420T174838
CREATED:20220120T065711Z
LAST-MODIFIED:20220120T065711Z
UID:3218-1645239600-1645358400@bearbaitradioclub.com
SUMMARY:February 2022 Technician Licensing Weekend Class & VE Session
DESCRIPTION:Ham friends: \nOur next Technician class will be February 19 and 20 (2022) at the Bear Bait Radio Club World Headquarters (the former Clay PD Offices) in the Clay Highway Building (4483 Route 31)  in Clay\, NY.  Class will run from 8:00 AM to 5:00 PM Saturday and Sunday with the VE Testing Sunday at 5:00 PM. \nThere is no cost for the class.  There is a nominal cost for lunch or you can bring your own. \nThe VE Testing costs $14.00. \nIf you know of folks who want their tickets\, have them use the registration link below: \nOnline registration \nFor further information or questions\, please contact the instructor\, Scott Marriam\, at WA2DTN1@gmail.com. \nRegistration deadline is February 12\, 2021 at 6:00 PM. \nThank you
URL:https://bearbaitradioclub.com/index.php/event/february-2022-technician-licensing-weekend-class-ve-session/
LOCATION:BBRC Headquarters – Clay Highway Bldg\, 4483 State Route 31\, Clay\, NY\, 13041\, United States
CATEGORIES:Training Sessions
ATTACH;FMTTYPE=image/jpeg:https://bearbaitradioclub.com/wp-content/uploads/2018/11/BBRC_HQ.jpg
ORGANIZER;CN="WA2DTN":MAILTO:wa2dtn1@gmail.com
END:VEVENT
BEGIN:VEVENT
DTSTART;TZID=America/New_York:20211215T133000
DTEND;TZID=America/New_York:20211215T153000
DTSTAMP:20260420T174838
CREATED:20210110T224846Z
LAST-MODIFIED:20210110T224846Z
UID:3008-1639575000-1639582200@bearbaitradioclub.com
SUMMARY:December 2021 Monthly Meeting
DESCRIPTION:The regular monthly meeting for December will be on Wednesday December 15\, 2021 at 6:30 PM at the Club Headquarters behind the Clay Highway Department.
URL:https://bearbaitradioclub.com/index.php/event/december-2021-monthly-meeting/
LOCATION:BBRC Headquarters – Clay Highway Bldg\, 4483 State Route 31\, Clay\, NY\, 13041\, United States
CATEGORIES:Club Meeting
ATTACH;FMTTYPE=image/jpeg:https://bearbaitradioclub.com/wp-content/uploads/2018/05/MonthlyMeeting.jpg
END:VEVENT
BEGIN:VEVENT
DTSTART;TZID=America/New_York:20211208T143000
DTEND;TZID=America/New_York:20211208T153000
DTSTAMP:20260420T174838
CREATED:20210110T221713Z
LAST-MODIFIED:20210110T221713Z
UID:2977-1638973800-1638977400@bearbaitradioclub.com
SUMMARY:December 2021 Monthly Net
DESCRIPTION:The BBRC Monthly Net for December will be on the Clay VHF repeater Wednesday December 8\, 2021 at 7:30 PM.
URL:https://bearbaitradioclub.com/index.php/event/december-2021-monthly-net/
LOCATION:Clay VHF Repeater\, 146.640- MHz 131.8 PL\, Clay\, NY\, 13041\, United States
CATEGORIES:Monthly Net
ATTACH;FMTTYPE=image/jpeg:https://bearbaitradioclub.com/wp-content/uploads/2018/05/net-pics.jpg
END:VEVENT
BEGIN:VEVENT
DTSTART;TZID=America/New_York:20211117T133000
DTEND;TZID=America/New_York:20211117T153000
DTSTAMP:20260420T174838
CREATED:20210110T224651Z
LAST-MODIFIED:20210110T224717Z
UID:3006-1637155800-1637163000@bearbaitradioclub.com
SUMMARY:November 2021 Monthly Meeting
DESCRIPTION:The regular monthly meeting for November will be on Wednesday November 17\, 2021 at 6:30 PM at the Club Headquarters behind the Clay Highway Department.
URL:https://bearbaitradioclub.com/index.php/event/november-2021-monthly-meeting/
LOCATION:BBRC Headquarters – Clay Highway Bldg\, 4483 State Route 31\, Clay\, NY\, 13041\, United States
CATEGORIES:Club Meeting
ATTACH;FMTTYPE=image/jpeg:https://bearbaitradioclub.com/wp-content/uploads/2018/05/MonthlyMeeting.jpg
END:VEVENT
BEGIN:VEVENT
DTSTART;TZID=America/New_York:20211113T030000
DTEND;TZID=America/New_York:20211114T120000
DTSTAMP:20260420T174838
CREATED:20210302T042242Z
LAST-MODIFIED:20220120T065529Z
UID:3036-1636772400-1636891200@bearbaitradioclub.com
SUMMARY:November 2021 Technician Licensing Weekend Class & VE Session
DESCRIPTION:Ham friends: \nOur next Technician class will be November 13 and 14 (2021) at the Bear Bait Radio Club World Headquarters (the former Clay PD Offices) in the Clay Highway Building (4483 Route 31)  in Clay\, NY.  Class will run from 8:00 AM to 5:00 PM Saturday and Sunday with the VE Testing Sunday at 5:00 PM. \nThere is no cost for the class.  There is a nominal cost for lunch or you can bring your own. \nThe VE Testing costs $14.00. \nIf you know of folks who want their tickets\, have them use the registration link below: \nOnline registration \nFor further information or questions\, please contact the instructor\, Scott Marriam\, at WA2DTN1@gmail.com. \nRegistration deadline is November 6\, 2021 at 6:00 PM. \nThank you
URL:https://bearbaitradioclub.com/index.php/event/november-2021-technician-licensing-weekend-class-ve-session/
LOCATION:BBRC Headquarters – Clay Highway Bldg\, 4483 State Route 31\, Clay\, NY\, 13041\, United States
CATEGORIES:Training Sessions
ATTACH;FMTTYPE=image/jpeg:https://bearbaitradioclub.com/wp-content/uploads/2018/11/BBRC_HQ.jpg
ORGANIZER;CN="WA2DTN":MAILTO:wa2dtn1@gmail.com
END:VEVENT
BEGIN:VEVENT
DTSTART;TZID=America/New_York:20211110T143000
DTEND;TZID=America/New_York:20211110T153000
DTSTAMP:20260420T174838
CREATED:20210110T221902Z
LAST-MODIFIED:20210110T221949Z
UID:2980-1636554600-1636558200@bearbaitradioclub.com
SUMMARY:November 2021 Monthly Net
DESCRIPTION:The BBRC Monthly Net for November will be on the Clay VHF repeater Wednesday November 10\, 2021 at 7:30 PM.
URL:https://bearbaitradioclub.com/index.php/event/november-2021-monthly-net/
LOCATION:Clay VHF Repeater\, 146.640- MHz 131.8 PL\, Clay\, NY\, 13041\, United States
CATEGORIES:Monthly Net
ATTACH;FMTTYPE=image/jpeg:https://bearbaitradioclub.com/wp-content/uploads/2018/05/net-pics.jpg
END:VEVENT
BEGIN:VEVENT
DTSTART;TZID=America/New_York:20211020T143000
DTEND;TZID=America/New_York:20211020T163000
DTSTAMP:20260420T174838
CREATED:20210110T224352Z
LAST-MODIFIED:20210110T224352Z
UID:3004-1634740200-1634747400@bearbaitradioclub.com
SUMMARY:October 2021 Monthly Meeting
DESCRIPTION:The regular monthly meeting for October will be on Wednesday October 20\, 2021 at 6:30 PM at the Club Headquarters behind the Clay Highway Department.
URL:https://bearbaitradioclub.com/index.php/event/october-2021-monthly-meeting/
LOCATION:BBRC Headquarters – Clay Highway Bldg\, 4483 State Route 31\, Clay\, NY\, 13041\, United States
CATEGORIES:Club Meeting
ATTACH;FMTTYPE=image/jpeg:https://bearbaitradioclub.com/wp-content/uploads/2018/05/MonthlyMeeting.jpg
END:VEVENT
BEGIN:VEVENT
DTSTART;TZID=America/New_York:20211013T153000
DTEND;TZID=America/New_York:20211013T163000
DTSTAMP:20260420T174838
CREATED:20210110T221429Z
LAST-MODIFIED:20210110T221429Z
UID:2973-1634139000-1634142600@bearbaitradioclub.com
SUMMARY:October 2021 Monthly Net
DESCRIPTION:The BBRC Monthly Net for October will be on the Clay VHF repeater Wednesday October 13\, 2021 at 7:30 PM.
URL:https://bearbaitradioclub.com/index.php/event/october-2021-monthly-net/
LOCATION:Clay VHF Repeater\, 146.640- MHz 131.8 PL\, Clay\, NY\, 13041\, United States
CATEGORIES:Monthly Net
ATTACH;FMTTYPE=image/jpeg:https://bearbaitradioclub.com/wp-content/uploads/2018/05/net-pics.jpg
END:VEVENT
BEGIN:VEVENT
DTSTART;TZID=America/New_York:20210925T040000
DTEND;TZID=America/New_York:20210926T130000
DTSTAMP:20260420T174838
CREATED:20210302T041831Z
LAST-MODIFIED:20210302T041831Z
UID:3032-1632542400-1632661200@bearbaitradioclub.com
SUMMARY:September 2021 Technician Licensing Weekend Class & VE Session
DESCRIPTION:Ham friends: \nOur next Technician class will be September 25 and 26 (2021) at the Bear Bait Radio Club World Headquarters (the former Clay PD Offices) in the Clay Highway Building (4483 Route 31)  in Clay\, NY.  Class will run from 8:00 AM to 5:00 PM Saturday and Sunday with the VE Testing Sunday at 5:00 PM. \nThere is no cost for the class.  There is a nominal cost for lunch or you can bring your own. \nThe VE Testing costs $14.00. \nIf you know of folks who want their tickets\, have them use the registration link below: \nOnline registration \nFor further information or questions\, please contact the instructor\, Scott Marriam\, at WA2DTN1@gmail.com. \nRegistration deadline is September 18\, 2021 at 6:00 PM. \nThank you
URL:https://bearbaitradioclub.com/index.php/event/september-2021-technician-licensing-weekend-class-ve-session/
LOCATION:BBRC Headquarters – Clay Highway Bldg\, 4483 State Route 31\, Clay\, NY\, 13041\, United States
CATEGORIES:Training Sessions
ATTACH;FMTTYPE=image/jpeg:https://bearbaitradioclub.com/wp-content/uploads/2018/11/BBRC_HQ.jpg
ORGANIZER;CN="WA2DTN":MAILTO:wa2dtn1@gmail.com
END:VEVENT
BEGIN:VEVENT
DTSTART;TZID=America/New_York:20210918T030000
DTEND;TZID=America/New_York:20210918T090000
DTSTAMP:20260420T174838
CREATED:20210819T220232Z
LAST-MODIFIED:20210819T220232Z
UID:3138-1631934000-1631955600@bearbaitradioclub.com
SUMMARY:September 2021 Tailgate Fest
DESCRIPTION:Admission: $5\nTailgating/vendors: $5 \nJoin us for our Annual Tailgate Fest at the Bear Bait Radio Headquarters
URL:https://bearbaitradioclub.com/index.php/event/september-2021-tailgate-fest/
LOCATION:BBRC Headquarters – Clay Highway Bldg\, 4483 State Route 31\, Clay\, NY\, 13041\, United States
CATEGORIES:Special Event
ATTACH;FMTTYPE=image/jpeg:https://bearbaitradioclub.com/wp-content/uploads/2018/05/Bear-Bait-Logo-1.1-e1629396122782.jpg
END:VEVENT
BEGIN:VEVENT
DTSTART;TZID=America/New_York:20210915T143000
DTEND;TZID=America/New_York:20210915T163000
DTSTAMP:20260420T174838
CREATED:20210110T224228Z
LAST-MODIFIED:20210110T224228Z
UID:3002-1631716200-1631723400@bearbaitradioclub.com
SUMMARY:September 2021 Monthly Meeting
DESCRIPTION:The regular monthly meeting for September will be on Wednesday September 15\, 2021 at 6:30 PM at the Club Headquarters behind the Clay Highway Department.
URL:https://bearbaitradioclub.com/index.php/event/september-2021-monthly-meeting/
LOCATION:BBRC Headquarters – Clay Highway Bldg\, 4483 State Route 31\, Clay\, NY\, 13041\, United States
CATEGORIES:Club Meeting
ATTACH;FMTTYPE=image/jpeg:https://bearbaitradioclub.com/wp-content/uploads/2018/05/MonthlyMeeting.jpg
END:VEVENT
BEGIN:VEVENT
DTSTART;TZID=America/New_York:20210908T153000
DTEND;TZID=America/New_York:20210908T163000
DTSTAMP:20260420T174838
CREATED:20210110T221247Z
LAST-MODIFIED:20210110T221247Z
UID:2971-1631115000-1631118600@bearbaitradioclub.com
SUMMARY:September 2021 Monthly Net
DESCRIPTION:The BBRC Monthly Net for September will be on the Clay VHF repeater Wednesday September 8\, 2021 at 7:30 PM.
URL:https://bearbaitradioclub.com/index.php/event/september-2021-monthly-net/
LOCATION:NY
CATEGORIES:Monthly Net
ATTACH;FMTTYPE=image/jpeg:https://bearbaitradioclub.com/wp-content/uploads/2018/05/net-pics.jpg
END:VEVENT
BEGIN:VEVENT
DTSTART;TZID=America/New_York:20210818T143000
DTEND;TZID=America/New_York:20210818T163000
DTSTAMP:20260420T174838
CREATED:20210110T224108Z
LAST-MODIFIED:20210110T224108Z
UID:3000-1629297000-1629304200@bearbaitradioclub.com
SUMMARY:August 2021 Monthly Meeting
DESCRIPTION:The regular monthly meeting for August will be on Wednesday August 18\, 2021 at 6:30 PM at the Club Headquarters behind the Clay Highway Department.
URL:https://bearbaitradioclub.com/index.php/event/august-2021-monthly-meeting/
LOCATION:BBRC Headquarters – Clay Highway Bldg\, 4483 State Route 31\, Clay\, NY\, 13041\, United States
CATEGORIES:Club Meeting
ATTACH;FMTTYPE=image/jpeg:https://bearbaitradioclub.com/wp-content/uploads/2018/05/MonthlyMeeting.jpg
END:VEVENT
BEGIN:VEVENT
DTSTART;TZID=America/New_York:20210811T153000
DTEND;TZID=America/New_York:20210811T163000
DTSTAMP:20260420T174838
CREATED:20210110T221116Z
LAST-MODIFIED:20210110T221116Z
UID:2969-1628695800-1628699400@bearbaitradioclub.com
SUMMARY:August 2021 Monthly Net
DESCRIPTION:The BBRC Monthly Net for August will be on the Clay VHF repeater Wednesday August 11\, 2021 at 7:30 PM.
URL:https://bearbaitradioclub.com/index.php/event/august-2021-monthly-net/
LOCATION:Clay VHF Repeater\, 146.640- MHz 131.8 PL\, Clay\, NY\, 13041\, United States
CATEGORIES:Monthly Net
ATTACH;FMTTYPE=image/jpeg:https://bearbaitradioclub.com/wp-content/uploads/2018/05/net-pics.jpg
END:VEVENT
BEGIN:VEVENT
DTSTART;TZID=America/New_York:20210714T153000
DTEND;TZID=America/New_York:20210714T163000
DTSTAMP:20260420T174838
CREATED:20210110T220942Z
LAST-MODIFIED:20210110T220942Z
UID:2967-1626276600-1626280200@bearbaitradioclub.com
SUMMARY:July 2021 Monthly Net
DESCRIPTION:The BBRC Monthly Net for July will be on the Clay VHF repeater Wednesday July 14\, 2021 at 7:30 PM.
URL:https://bearbaitradioclub.com/index.php/event/july-2021-monthly-net/
LOCATION:Clay VHF Repeater\, 146.640- MHz 131.8 PL\, Clay\, NY\, 13041\, United States
CATEGORIES:Monthly Net
ATTACH;FMTTYPE=image/jpeg:https://bearbaitradioclub.com/wp-content/uploads/2018/05/net-pics.jpg
END:VEVENT
BEGIN:VEVENT
DTSTART;TZID=America/New_York:20210616T143000
DTEND;TZID=America/New_York:20210616T160000
DTSTAMP:20260420T174838
CREATED:20210110T223844Z
LAST-MODIFIED:20220419T004439Z
UID:2996-1623853800-1623859200@bearbaitradioclub.com
SUMMARY:June 2021 Monthly Meeting
DESCRIPTION:The regular monthly meeting for June will be on Wednesday June 16\, 2021 at 6:30 PM at the Club Headquarters behind the Clay Highway Department.
URL:https://bearbaitradioclub.com/index.php/event/june-2021-monthly-meeting/
LOCATION:BBRC Headquarters – Clay Highway Bldg\, 4483 State Route 31\, Clay\, NY\, 13041\, United States
CATEGORIES:Club Meeting
ATTACH;FMTTYPE=image/jpeg:https://bearbaitradioclub.com/wp-content/uploads/2018/05/MonthlyMeeting.jpg
END:VEVENT
BEGIN:VEVENT
DTSTART;TZID=America/New_York:20210609T153000
DTEND;TZID=America/New_York:20210609T163000
DTSTAMP:20260420T174838
CREATED:20210110T220443Z
LAST-MODIFIED:20210110T220443Z
UID:2965-1623252600-1623256200@bearbaitradioclub.com
SUMMARY:June 2021 Monthly Net
DESCRIPTION:The BBRC Monthly Net for June will be on the Clay VHF repeater Wednesday June 9\, 2021 at 7:30 PM.
URL:https://bearbaitradioclub.com/index.php/event/june-2021-monthly-net/
LOCATION:Clay VHF Repeater\, 146.640- MHz 131.8 PL\, Clay\, NY\, 13041\, United States
CATEGORIES:Monthly Net
ATTACH;FMTTYPE=image/jpeg:https://bearbaitradioclub.com/wp-content/uploads/2018/05/net-pics.jpg
END:VEVENT
END:VCALENDAR