BEGIN:VCALENDAR
VERSION:2.0
PRODID:-// - ECPv6.10.2//NONSGML v1.0//EN
CALSCALE:GREGORIAN
METHOD:PUBLISH
X-ORIGINAL-URL:https://bearbaitradioclub.com
X-WR-CALDESC:Events for 
REFRESH-INTERVAL;VALUE=DURATION:PT1H
X-Robots-Tag:noindex
X-PUBLISHED-TTL:PT1H
BEGIN:VTIMEZONE
TZID:America/New_York
BEGIN:DAYLIGHT
TZOFFSETFROM:-0500
TZOFFSETTO:-0400
TZNAME:EDT
DTSTART:20180311T070000
END:DAYLIGHT
BEGIN:STANDARD
TZOFFSETFROM:-0400
TZOFFSETTO:-0500
TZNAME:EST
DTSTART:20181104T060000
END:STANDARD
END:VTIMEZONE
BEGIN:VEVENT
DTSTART;TZID=America/New_York:20180912T153000
DTEND;TZID=America/New_York:20180912T163000
DTSTAMP:20260422T174730
CREATED:20180524T192046Z
LAST-MODIFIED:20180524T192046Z
UID:302-1536766200-1536769800@bearbaitradioclub.com
SUMMARY:September Club Net
DESCRIPTION:Check-in to our 2 meter net on the second Wednesday of every month. It is open to all amateurs and is hosted on our Clay repeater 146.640- MHz PL 131.8 in and out.
URL:https://bearbaitradioclub.com/index.php/event/september-club-net/
LOCATION:Clay VHF Repeater\, 146.640- MHz 131.8 PL\, Clay\, NY\, 13041\, United States
CATEGORIES:Monthly Net
ATTACH;FMTTYPE=image/jpeg:https://bearbaitradioclub.com/wp-content/uploads/2018/05/net-pics.jpg
END:VEVENT
BEGIN:VEVENT
DTSTART;TZID=America/New_York:20180815T173000
DTEND;TZID=America/New_York:20180815T190000
DTSTAMP:20260422T174730
CREATED:20180523T230856Z
LAST-MODIFIED:20180524T015354Z
UID:55-1534354200-1534359600@bearbaitradioclub.com
SUMMARY:August Club Meeting
DESCRIPTION:This is the monthly membership meeting of the Bear Bait Radio Club.
URL:https://bearbaitradioclub.com/index.php/event/august-club-meeting/
LOCATION:Clay Historical Park\, 4939 Route 31\, Clay\, NY\, 13041\, United States
CATEGORIES:Club Meeting
ATTACH;FMTTYPE=image/jpeg:https://bearbaitradioclub.com/wp-content/uploads/2018/05/MonthlyMeeting.jpg
END:VEVENT
BEGIN:VEVENT
DTSTART;TZID=America/New_York:20180808T183000
DTEND;TZID=America/New_York:20180808T193000
DTSTAMP:20260422T174730
CREATED:20180524T191911Z
LAST-MODIFIED:20180524T191911Z
UID:300-1533753000-1533756600@bearbaitradioclub.com
SUMMARY:August Club Net
DESCRIPTION:Check-in to our 2 meter net on the second Wednesday of every month. It is open to all amateurs and is hosted on our Clay repeater 146.640- MHz PL 131.8 in and out.
URL:https://bearbaitradioclub.com/index.php/event/august-club-net/
LOCATION:Clay VHF Repeater\, 146.640- MHz 131.8 PL\, Clay\, NY\, 13041\, United States
CATEGORIES:Monthly Net
ATTACH;FMTTYPE=image/jpeg:https://bearbaitradioclub.com/wp-content/uploads/2018/05/net-pics.jpg
END:VEVENT
BEGIN:VEVENT
DTSTART;TZID=America/New_York:20180718T173000
DTEND;TZID=America/New_York:20180718T190000
DTSTAMP:20260422T174730
CREATED:20180523T230749Z
LAST-MODIFIED:20180524T015335Z
UID:53-1531935000-1531940400@bearbaitradioclub.com
SUMMARY:July Club Meeting
DESCRIPTION:This is the monthly membership meeting of the Bear Bait Radio Club.
URL:https://bearbaitradioclub.com/index.php/event/july-club-meeting/
LOCATION:Clay Historical Park\, 4939 Route 31\, Clay\, NY\, 13041\, United States
CATEGORIES:Club Meeting
ATTACH;FMTTYPE=image/jpeg:https://bearbaitradioclub.com/wp-content/uploads/2018/05/MonthlyMeeting.jpg
END:VEVENT
BEGIN:VEVENT
DTSTART;TZID=America/New_York:20180711T153000
DTEND;TZID=America/New_York:20180711T163000
DTSTAMP:20260422T174730
CREATED:20180524T014151Z
LAST-MODIFIED:20180524T014647Z
UID:121-1531323000-1531326600@bearbaitradioclub.com
SUMMARY:July Club Net
DESCRIPTION:Check-in to our 2 meter net on the second Wednesday of every month. It is open to all amateurs and is hosted on our Clay repeater 146.640- MHz PL 131.8 in and out.
URL:https://bearbaitradioclub.com/index.php/event/july-club-net/
LOCATION:Clay VHF Repeater\, 146.640- MHz 131.8 PL\, Clay\, NY\, 13041\, United States
CATEGORIES:Monthly Net
ATTACH;FMTTYPE=image/jpeg:https://bearbaitradioclub.com/wp-content/uploads/2018/05/net-pics.jpg
END:VEVENT
BEGIN:VEVENT
DTSTART;TZID=America/New_York:20180623T100000
DTEND;TZID=America/New_York:20180624T130000
DTSTAMP:20260422T174730
CREATED:20180524T012530Z
LAST-MODIFIED:20180524T015110Z
UID:116-1529748000-1529845200@bearbaitradioclub.com
SUMMARY:Field Day 2018
DESCRIPTION:Here is more information on Field Day from the ARRL:  ARRL Field Day The club will be going up a day early to setup.  The event is open to the public and anyone is welcome to stop in to learn more about amateur radio and get your hands on some gear to try it out.  This is our XXth year doing field day at this location. Please join us to learn more.
URL:https://bearbaitradioclub.com/index.php/event/field-day-2018/
LOCATION:Mount Sabattis Park\, 46 Pavillion Rd\,\, Long Lake\, NY\, 12847\, United States
CATEGORIES:Special Event
ATTACH;FMTTYPE=image/png:https://bearbaitradioclub.com/wp-content/uploads/2018/05/fd18_logo_hd.png
END:VEVENT
BEGIN:VEVENT
DTSTART;TZID=America/New_York:20180620T173000
DTEND;TZID=America/New_York:20180620T190000
DTSTAMP:20260422T174730
CREATED:20180523T230234Z
LAST-MODIFIED:20180524T015314Z
UID:50-1529515800-1529521200@bearbaitradioclub.com
SUMMARY:June Club Meeting
DESCRIPTION:This is the monthly membership meeting of the Bear Bait Radio Club.
URL:https://bearbaitradioclub.com/index.php/event/june-club-meeting/
LOCATION:Clay Historical Park\, 4939 Route 31\, Clay\, NY\, 13041\, United States
CATEGORIES:Club Meeting
ATTACH;FMTTYPE=image/jpeg:https://bearbaitradioclub.com/wp-content/uploads/2018/05/MonthlyMeeting.jpg
END:VEVENT
BEGIN:VEVENT
DTSTART;TZID=America/New_York:20180613T183000
DTEND;TZID=America/New_York:20180613T193000
DTSTAMP:20260422T174730
CREATED:20180524T011615Z
LAST-MODIFIED:20180524T015021Z
UID:113-1528914600-1528918200@bearbaitradioclub.com
SUMMARY:June Club Net
DESCRIPTION:Check-in to our 2 meter net on the second Wednesday of every month. It is open to all amateurs and is hosted on our Clay repeater 146.640- MHz PL 131.8 in and out.
URL:https://bearbaitradioclub.com/index.php/event/june-club-net/
LOCATION:Clay VHF Repeater\, 146.640- MHz 131.8 PL\, Clay\, NY\, 13041\, United States
CATEGORIES:Monthly Net
ATTACH;FMTTYPE=image/jpeg:https://bearbaitradioclub.com/wp-content/uploads/2018/05/net-pics.jpg
END:VEVENT
END:VCALENDAR