BEGIN:VCALENDAR
VERSION:2.0
PRODID:-// - ECPv6.10.2//NONSGML v1.0//EN
CALSCALE:GREGORIAN
METHOD:PUBLISH
X-ORIGINAL-URL:https://bearbaitradioclub.com
X-WR-CALDESC:Events for 
REFRESH-INTERVAL;VALUE=DURATION:PT1H
X-Robots-Tag:noindex
X-PUBLISHED-TTL:PT1H
BEGIN:VTIMEZONE
TZID:America/New_York
BEGIN:DAYLIGHT
TZOFFSETFROM:-0500
TZOFFSETTO:-0400
TZNAME:EDT
DTSTART:20230312T070000
END:DAYLIGHT
BEGIN:STANDARD
TZOFFSETFROM:-0400
TZOFFSETTO:-0500
TZNAME:EST
DTSTART:20231105T060000
END:STANDARD
BEGIN:DAYLIGHT
TZOFFSETFROM:-0500
TZOFFSETTO:-0400
TZNAME:EDT
DTSTART:20240310T070000
END:DAYLIGHT
BEGIN:STANDARD
TZOFFSETFROM:-0400
TZOFFSETTO:-0500
TZNAME:EST
DTSTART:20241103T060000
END:STANDARD
BEGIN:DAYLIGHT
TZOFFSETFROM:-0500
TZOFFSETTO:-0400
TZNAME:EDT
DTSTART:20250309T070000
END:DAYLIGHT
BEGIN:STANDARD
TZOFFSETFROM:-0400
TZOFFSETTO:-0500
TZNAME:EST
DTSTART:20251102T060000
END:STANDARD
BEGIN:DAYLIGHT
TZOFFSETFROM:-0500
TZOFFSETTO:-0400
TZNAME:EDT
DTSTART:20260308T070000
END:DAYLIGHT
BEGIN:STANDARD
TZOFFSETFROM:-0400
TZOFFSETTO:-0500
TZNAME:EST
DTSTART:20261101T060000
END:STANDARD
END:VTIMEZONE
BEGIN:VEVENT
DTSTART;TZID=America/New_York:20260819T183000
DTEND;TZID=America/New_York:20260819T193000
DTSTAMP:20260420T210010
CREATED:20260329T044121Z
LAST-MODIFIED:20260329T044121Z
UID:3933-1787164200-1787167800@bearbaitradioclub.com
SUMMARY:August 2026 Monthly Meeting
DESCRIPTION:The regular monthly meeting for August will be on Wednesday\, August 19\, 2023 at 6:30 PM at the Club Headquarters behind the Clay Highway Department.
URL:https://bearbaitradioclub.com/index.php/event/august-2026-monthly-meeting/
LOCATION:BBRC Headquarters – Clay Highway Bldg\, 4483 State Route 31\, Clay\, NY\, 13041\, United States
CATEGORIES:Club Meeting
ATTACH;FMTTYPE=image/png:https://bearbaitradioclub.com/wp-content/uploads/2026/03/admin-ajax.php_.png
END:VEVENT
BEGIN:VEVENT
DTSTART;TZID=America/New_York:20260812T193000
DTEND;TZID=America/New_York:20260812T200000
DTSTAMP:20260420T210010
CREATED:20260329T042313Z
LAST-MODIFIED:20260329T042313Z
UID:3919-1786563000-1786564800@bearbaitradioclub.com
SUMMARY:August 2026 Monthly Net
DESCRIPTION:The BBRC Monthly Net for August will be on the Clay VHF repeater Wednesday\, August 12\, 2026 at 7:30 PM.
URL:https://bearbaitradioclub.com/index.php/event/august-2026-monthly-net/
LOCATION:BBRC Headquarters – Clay Highway Bldg\, 4483 State Route 31\, Clay\, NY\, 13041\, United States
CATEGORIES:Monthly Net
ATTACH;FMTTYPE=image/png:https://bearbaitradioclub.com/wp-content/uploads/2026/03/NETNIGHT.png
END:VEVENT
BEGIN:VEVENT
DTSTART;TZID=America/New_York:20260715T183000
DTEND;TZID=America/New_York:20260715T193000
DTSTAMP:20260420T210010
CREATED:20260329T043937Z
LAST-MODIFIED:20260329T043937Z
UID:3931-1784140200-1784143800@bearbaitradioclub.com
SUMMARY:July 2026 Monthly Meeting
DESCRIPTION:The regular monthly meeting for July will be on Wednesday\, July 15\, 2023 at 6:30 PM at the Club Headquarters behind the Clay Highway Department.
URL:https://bearbaitradioclub.com/index.php/event/july-2026-monthly-meeting/
LOCATION:BBRC Headquarters – Clay Highway Bldg\, 4483 State Route 31\, Clay\, NY\, 13041\, United States
CATEGORIES:Club Meeting
ATTACH;FMTTYPE=image/png:https://bearbaitradioclub.com/wp-content/uploads/2026/03/admin-ajax.php_.png
END:VEVENT
BEGIN:VEVENT
DTSTART;TZID=America/New_York:20260708T193000
DTEND;TZID=America/New_York:20260708T200000
DTSTAMP:20260420T210010
CREATED:20260329T042154Z
LAST-MODIFIED:20260329T042154Z
UID:3917-1783539000-1783540800@bearbaitradioclub.com
SUMMARY:July 2026 Monthly Net
DESCRIPTION:The BBRC Monthly Net for July will be on the Clay VHF repeater Wednesday\, July 8\, 2026 at 7:30 PM.
URL:https://bearbaitradioclub.com/index.php/event/july-2026-monthly-net/
LOCATION:BBRC Headquarters – Clay Highway Bldg\, 4483 State Route 31\, Clay\, NY\, 13041\, United States
CATEGORIES:Monthly Net
ATTACH;FMTTYPE=image/png:https://bearbaitradioclub.com/wp-content/uploads/2026/03/NETNIGHT.png
END:VEVENT
BEGIN:VEVENT
DTSTART;TZID=America/New_York:20260617T183000
DTEND;TZID=America/New_York:20260617T193000
DTSTAMP:20260420T210010
CREATED:20260329T043821Z
LAST-MODIFIED:20260329T043821Z
UID:3929-1781721000-1781724600@bearbaitradioclub.com
SUMMARY:June 2026 Monthly Meeting
DESCRIPTION:The regular monthly meeting for June will be on Wednesday\, June 17\, 2023 at 6:30 PM at the Club Headquarters behind the Clay Highway Department.
URL:https://bearbaitradioclub.com/index.php/event/june-2026-monthly-meeting/
LOCATION:BBRC Headquarters – Clay Highway Bldg\, 4483 State Route 31\, Clay\, NY\, 13041\, United States
CATEGORIES:Club Meeting
ATTACH;FMTTYPE=image/png:https://bearbaitradioclub.com/wp-content/uploads/2026/03/admin-ajax.php_.png
END:VEVENT
BEGIN:VEVENT
DTSTART;TZID=America/New_York:20260610T193000
DTEND;TZID=America/New_York:20260610T200000
DTSTAMP:20260420T210010
CREATED:20260329T042024Z
LAST-MODIFIED:20260329T042024Z
UID:3915-1781119800-1781121600@bearbaitradioclub.com
SUMMARY:June 2026 Monthly Net
DESCRIPTION:The BBRC Monthly Net for June will be on the Clay VHF repeater Wednesday\, June 10\, 2026 at 7:30 PM.
URL:https://bearbaitradioclub.com/index.php/event/june-2026-monthly-net/
LOCATION:BBRC Headquarters – Clay Highway Bldg\, 4483 State Route 31\, Clay\, NY\, 13041\, United States
CATEGORIES:Monthly Net
ATTACH;FMTTYPE=image/png:https://bearbaitradioclub.com/wp-content/uploads/2026/03/NETNIGHT.png
END:VEVENT
BEGIN:VEVENT
DTSTART;TZID=America/New_York:20260520T183000
DTEND;TZID=America/New_York:20260520T200000
DTSTAMP:20260420T210010
CREATED:20260329T040404Z
LAST-MODIFIED:20260329T040404Z
UID:3905-1779301800-1779307200@bearbaitradioclub.com
SUMMARY:National Weather Service Binghamton SKYWARN Training Session
DESCRIPTION:The Bear Bait Radio Club is hosting a Skywarn Training Session.\nPre-registration is required.\nPlease use the link below to register.\nhttps://forms.gle/DzwJcfc52DE8tnoq5
URL:https://bearbaitradioclub.com/index.php/event/national-weather-service-binghamton-skywarn-training-session/
LOCATION:BBRC Headquarters – Clay Highway Bldg\, 4483 State Route 31\, Clay\, NY\, 13041\, United States
CATEGORIES:Special Event,Training Sessions
ATTACH;FMTTYPE=image/png:https://bearbaitradioclub.com/wp-content/uploads/2026/03/NWSWx-e1774757007374.png
END:VEVENT
BEGIN:VEVENT
DTSTART;TZID=America/New_York:20260520T180000
DTEND;TZID=America/New_York:20260520T183000
DTSTAMP:20260420T210010
CREATED:20260329T040944Z
LAST-MODIFIED:20260329T040944Z
UID:3909-1779300000-1779301800@bearbaitradioclub.com
SUMMARY:May 2026 Monthly Meeting **Earlier Time**
DESCRIPTION:May’s Meeting will begin at 6:00pm will be on Wednesday\, May 20\, 2023 at the Club Headquarters behind the Clay Highway Department.\nImmediately following the meeting will be the National Weather Service SKYWARN training at 6:30pm.\nMembers are required to pre-register for the training using the link below.\nhttps://forms.gle/DzwJcfc52DE8tnoq5
URL:https://bearbaitradioclub.com/index.php/event/may-2026-monthly-meeting-earlier-time/
LOCATION:BBRC Headquarters – Clay Highway Bldg\, 4483 State Route 31\, Clay\, NY\, 13041\, United States
CATEGORIES:Club Meeting
ATTACH;FMTTYPE=image/png:https://bearbaitradioclub.com/wp-content/uploads/2026/03/admin-ajax.php_.png
END:VEVENT
BEGIN:VEVENT
DTSTART;TZID=America/New_York:20260513T193000
DTEND;TZID=America/New_York:20260513T200000
DTSTAMP:20260420T210010
CREATED:20260329T041227Z
LAST-MODIFIED:20260329T041338Z
UID:3912-1778700600-1778702400@bearbaitradioclub.com
SUMMARY:May 2026 Monthly Net
DESCRIPTION:The BBRC Monthly Net for May will be on the Clay VHF repeater Wednesday\, May 13\, 2026 at 7:30 PM.
URL:https://bearbaitradioclub.com/index.php/event/may-monthly-net/
LOCATION:BBRC Headquarters – Clay Highway Bldg\, 4483 State Route 31\, Clay\, NY\, 13041\, United States
CATEGORIES:Monthly Net
ATTACH;FMTTYPE=image/png:https://bearbaitradioclub.com/wp-content/uploads/2026/03/NETNIGHT.png
END:VEVENT
BEGIN:VEVENT
DTSTART;TZID=America/New_York:20260502T100000
DTEND;TZID=America/New_York:20260502T170000
DTSTAMP:20260420T210010
CREATED:20260329T030501Z
LAST-MODIFIED:20260329T030502Z
UID:3893-1777716000-1777741200@bearbaitradioclub.com
SUMMARY:Maker Faire 2026
DESCRIPTION:Stop by and see us at the Center of Progress Building at the NYS Fairgrounds!
URL:https://bearbaitradioclub.com/index.php/event/maker-faire-2026/
LOCATION:New York State Fairgrounds – Center of Progress Building\, Massapequa Ave\, Syracuse\, NY\, 13209\, United States
CATEGORIES:Special Event
ATTACH;FMTTYPE=image/png:https://bearbaitradioclub.com/wp-content/uploads/2026/03/BBRC_MakerFaire2026.png
END:VEVENT
BEGIN:VEVENT
DTSTART;TZID=America/New_York:20260426T080000
DTEND;TZID=America/New_York:20260426T170000
DTSTAMP:20260420T210010
CREATED:20260329T025753Z
LAST-MODIFIED:20260329T025753Z
UID:3890-1777190400-1777222800@bearbaitradioclub.com
SUMMARY:VE Technician Class - DAY 2
DESCRIPTION:This is Day 2 of the VE Technician Class.\nPlease copy and paste the URL into your browser to access the registration form.\nhttps://forms.gle/GxgMRfwk6MkKLNbq5 
URL:https://bearbaitradioclub.com/index.php/event/ve-technician-class-day-2/
LOCATION:BBRC Headquarters – Clay Highway Bldg\, 4483 State Route 31\, Clay\, NY\, 13041\, United States
CATEGORIES:Training Sessions
ATTACH;FMTTYPE=image/png:https://bearbaitradioclub.com/wp-content/uploads/2026/03/class-e1774752682196.png
END:VEVENT
BEGIN:VEVENT
DTSTART;TZID=America/New_York:20260425T080000
DTEND;TZID=America/New_York:20260425T170000
DTSTAMP:20260420T210010
CREATED:20260329T025143Z
LAST-MODIFIED:20260329T050445Z
UID:3885-1777104000-1777136400@bearbaitradioclub.com
SUMMARY:VE Technician Class - DAY 1
DESCRIPTION:This 2 day class will prepare you for the FCC Amateur Technician Class exam. Students will need to purchase the Ham Radio License Manual\, Fifth Edition available from the ARRL. Students will need to read\, and become familiar with\, Chapters 1 through 4\, as this will make up the majority of Saturday’s lecture. VE testing session will occur after the class on Sunday. Please copy and paste the URL into your browser to access the registration form. https://forms.gle/GxgMRfwk6MkKLNbq5 \nCourse is for 2 days::\nSaturday & Sunday\n8:00 am – 5:00 pm \nMaterials Needed:\nARRL Ham Radio\nLicense Manual\n(5th Edition) &\n$14 exam fee
URL:https://bearbaitradioclub.com/index.php/event/ve-technician-class/
LOCATION:BBRC Headquarters – Clay Highway Bldg\, 4483 State Route 31\, Clay\, NY\, 13041\, United States
CATEGORIES:Training Sessions
ATTACH;FMTTYPE=image/png:https://bearbaitradioclub.com/wp-content/uploads/2026/03/class-e1774752682196.png
END:VEVENT
BEGIN:VEVENT
DTSTART;TZID=America/New_York:20260415T183000
DTEND;TZID=America/New_York:20260415T193000
DTSTAMP:20260420T210010
CREATED:20260329T032048Z
LAST-MODIFIED:20260329T032717Z
UID:3897-1776277800-1776281400@bearbaitradioclub.com
SUMMARY:April 2026 Monthly Meeting
DESCRIPTION:The regular monthly meeting for April will be on Wednesday\, April 15\, 2023 at 6:30 PM at the Club Headquarters behind the Clay Highway Department.
URL:https://bearbaitradioclub.com/index.php/event/april-2026-monthly-meeting/
LOCATION:BBRC Headquarters – Clay Highway Bldg\, 4483 State Route 31\, Clay\, NY\, 13041\, United States
CATEGORIES:Club Meeting
ATTACH;FMTTYPE=image/png:https://bearbaitradioclub.com/wp-content/uploads/2026/03/admin-ajax.php_.png
END:VEVENT
BEGIN:VEVENT
DTSTART;TZID=America/New_York:20260408T193000
DTEND;TZID=America/New_York:20260408T200000
DTSTAMP:20260420T210010
CREATED:20260329T032645Z
LAST-MODIFIED:20260329T032645Z
UID:3902-1775676600-1775678400@bearbaitradioclub.com
SUMMARY:April 2026 Monthly Net
DESCRIPTION:The BBRC Monthly Net for April will be on the Clay VHF repeater Wednesday\, April 8\, 2026 at 7:30 PM.
URL:https://bearbaitradioclub.com/index.php/event/april-2026-monthly-net/
LOCATION:BBRC Headquarters – Clay Highway Bldg\, 4483 State Route 31\, Clay\, NY\, 13041\, United States
CATEGORIES:Monthly Net
ATTACH;FMTTYPE=image/png:https://bearbaitradioclub.com/wp-content/uploads/2026/03/NETNIGHT.png
END:VEVENT
BEGIN:VEVENT
DTSTART;TZID=America/New_York:20250920T070000
DTEND;TZID=America/New_York:20250920T130000
DTSTAMP:20260420T210010
CREATED:20250916T232755Z
LAST-MODIFIED:20250916T232755Z
UID:3811-1758351600-1758373200@bearbaitradioclub.com
SUMMARY:September 2025 Tailgate Fest
DESCRIPTION:📻 Bear Bait Radio Club Tailgate Fest 2025 \nJoin us for the annual BBRC Tailgate Fest on Saturday\, September 20\, 2025\, from 7:00 AM – 1:00 PM at the Town of Clay Highway Building\, 4483 State Route 31\, Clay\, NY 13041. \nThis is your chance to connect with fellow radio enthusiasts\, browse gear\, and enjoy a morning full of fun\, prizes\, and camaraderie. \nEvent Details \nAdmission: $5 \nTailgate/Vendor Spots: $5 (first come\, first serve) \nTalk-In: 146.640– (PL 131.8) \nRain or Shine! \nHighlights \n🎟️ Prizes & Raffles – including a DX Engineering gift certificate and 50/50 raffle\n🍩 Refreshments – available for a small donation\n📡 Great Deals – explore radio gear\, accessories\, and more \nContact \nFor more information\, reach out to:\nMelanie Shum (K2MKS)\n📧 melanieshum@gmail.com
URL:https://bearbaitradioclub.com/index.php/event/september-2025-tailgate-fest/
LOCATION:BBRC Headquarters – Clay Highway Bldg\, 4483 State Route 31\, Clay\, NY\, 13041\, United States
CATEGORIES:Special Event
ATTACH;FMTTYPE=image/jpeg:https://bearbaitradioclub.com/wp-content/uploads/2025/09/tailgatefest-2025-bbrc.jpg
END:VEVENT
BEGIN:VEVENT
DTSTART;TZID=America/New_York:20240921T070000
DTEND;TZID=America/New_York:20240921T130000
DTSTAMP:20260420T210010
CREATED:20240916T173005Z
LAST-MODIFIED:20250916T232652Z
UID:3672-1726902000-1726923600@bearbaitradioclub.com
SUMMARY:September 2024 Tailgate Fest
DESCRIPTION:Admission: $5\nTailgating/vendors: $5 \nJoin us for our Annual Tailgate Fest at the Bear Bait Radio Headquarters
URL:https://bearbaitradioclub.com/index.php/event/september-2024-tailgate-fest/
LOCATION:BBRC Headquarters – Clay Highway Bldg\, 4483 State Route 31\, Clay\, NY\, 13041\, United States
CATEGORIES:Special Event
ATTACH;FMTTYPE=image/jpeg:https://bearbaitradioclub.com/wp-content/uploads/2018/05/Bear-Bait-Logo-1.1-e1629396122782.jpg
END:VEVENT
BEGIN:VEVENT
DTSTART;TZID=America/New_York:20231220T183000
DTEND;TZID=America/New_York:20231220T203000
DTSTAMP:20260420T210010
CREATED:20230215T194907Z
LAST-MODIFIED:20230215T194907Z
UID:3436-1703097000-1703104200@bearbaitradioclub.com
SUMMARY:December 2023 Monthly Meeting
DESCRIPTION:The regular monthly meeting for December will be on Wednesday December 20\, 2023 at 6:30 PM at the Club Headquarters behind the Clay Highway Department
URL:https://bearbaitradioclub.com/index.php/event/december-2023-monthly-meeting/
LOCATION:BBRC Headquarters – Clay Highway Bldg\, 4483 State Route 31\, Clay\, NY\, 13041\, United States
CATEGORIES:Club Meeting
ATTACH;FMTTYPE=image/jpeg:https://bearbaitradioclub.com/wp-content/uploads/2018/05/MonthlyMeeting.jpg
END:VEVENT
BEGIN:VEVENT
DTSTART;TZID=America/New_York:20231213T193000
DTEND;TZID=America/New_York:20231213T200000
DTSTAMP:20260420T210010
CREATED:20230215T192945Z
LAST-MODIFIED:20230215T192945Z
UID:3412-1702495800-1702497600@bearbaitradioclub.com
SUMMARY:December 2023 Monthly Net
DESCRIPTION:The BBRC Monthly Net for December will be on the Clay VHF repeater Wednesday December 13\, 2023 at 7:30 PM.
URL:https://bearbaitradioclub.com/index.php/event/december-2023-monthly-net/
LOCATION:Clay VHF Repeater\, 146.640- MHz 131.8 PL\, Clay\, NY\, 13041\, United States
CATEGORIES:Monthly Net
ATTACH;FMTTYPE=image/jpeg:https://bearbaitradioclub.com/wp-content/uploads/2018/05/net-pics.jpg
END:VEVENT
BEGIN:VEVENT
DTSTART;TZID=America/New_York:20231115T183000
DTEND;TZID=America/New_York:20231115T203000
DTSTAMP:20260420T210010
CREATED:20230215T194804Z
LAST-MODIFIED:20230215T194804Z
UID:3434-1700073000-1700080200@bearbaitradioclub.com
SUMMARY:November 2023 Monthly Meeting
DESCRIPTION:The regular monthly meeting for November will be on Wednesday November 15\, 2023 at 6:30 PM at the Club Headquarters behind the Clay Highway Department
URL:https://bearbaitradioclub.com/index.php/event/november-2023-monthly-meeting/
LOCATION:BBRC Headquarters – Clay Highway Bldg\, 4483 State Route 31\, Clay\, NY\, 13041\, United States
CATEGORIES:Club Meeting
ATTACH;FMTTYPE=image/jpeg:https://bearbaitradioclub.com/wp-content/uploads/2018/05/MonthlyMeeting.jpg
END:VEVENT
BEGIN:VEVENT
DTSTART;TZID=America/New_York:20231111T080000
DTEND;TZID=America/New_York:20231112T170000
DTSTAMP:20260420T210010
CREATED:20230215T204158Z
LAST-MODIFIED:20231023T154959Z
UID:3445-1699689600-1699808400@bearbaitradioclub.com
SUMMARY:November 2023 Technician Licensing Weekend Class & VE Session
DESCRIPTION:Ham friends: \nOur next Technician class will be November 11 and 12\, 2023 at the Bear Bait Radio Club World Headquarters (the former Clay PD Offices) in the Clay Highway Building (4483 Route 31)  in Clay\, NY.  Class will run from 8:00 AM to 5:00 PM Saturday and Sunday with the VE Testing Sunday at 5:00 PM. \nThere is no cost for the class.  There is a nominal cost for lunch or you can bring your own. \nThe VE Testing costs $14.00. \nIf you know of folks who want their tickets\, have them use the registration link below or the form at the bottom of this post: \nOnline registration \nFor further information or questions\, please contact the instructor\, Scott Marriam\, at WA2DTN1@gmail.com. \nRegistration deadline is November 4\, 2023 at 6:00 PM. \nThank you
URL:https://bearbaitradioclub.com/index.php/event/november-2023-technician-licensing-weekend-class-ve-session/
LOCATION:BBRC Headquarters – Clay Highway Bldg\, 4483 State Route 31\, Clay\, NY\, 13041\, United States
CATEGORIES:Training Sessions
ATTACH;FMTTYPE=image/jpeg:https://bearbaitradioclub.com/wp-content/uploads/2018/11/BBRC_HQ.jpg
ORGANIZER;CN="WA2DTN":MAILTO:wa2dtn1@gmail.com
END:VEVENT
BEGIN:VEVENT
DTSTART;TZID=America/New_York:20231108T193000
DTEND;TZID=America/New_York:20231108T200000
DTSTAMP:20260420T210010
CREATED:20230215T192834Z
LAST-MODIFIED:20230215T192834Z
UID:3410-1699471800-1699473600@bearbaitradioclub.com
SUMMARY:November 2023 Monthly Net
DESCRIPTION:The BBRC Monthly Net for November will be on the Clay VHF repeater Wednesday November 8\, 2023 at 7:30 PM.
URL:https://bearbaitradioclub.com/index.php/event/november-2023-monthly-net/
LOCATION:Clay VHF Repeater\, 146.640- MHz 131.8 PL\, Clay\, NY\, 13041\, United States
CATEGORIES:Monthly Net
ATTACH;FMTTYPE=image/jpeg:https://bearbaitradioclub.com/wp-content/uploads/2018/05/net-pics.jpg
END:VEVENT
BEGIN:VEVENT
DTSTART;TZID=America/New_York:20231018T183000
DTEND;TZID=America/New_York:20231018T203000
DTSTAMP:20260420T210010
CREATED:20230215T194656Z
LAST-MODIFIED:20230215T194656Z
UID:3432-1697653800-1697661000@bearbaitradioclub.com
SUMMARY:October 2023 Monthly Meeting
DESCRIPTION:The regular monthly meeting for October will be on Wednesday October 18\, 2023 at 6:30 PM at the Club Headquarters behind the Clay Highway Department
URL:https://bearbaitradioclub.com/index.php/event/october-2023-monthly-meeting/
LOCATION:BBRC Headquarters – Clay Highway Bldg\, 4483 State Route 31\, Clay\, NY\, 13041\, United States
CATEGORIES:Club Meeting
ATTACH;FMTTYPE=image/jpeg:https://bearbaitradioclub.com/wp-content/uploads/2018/05/MonthlyMeeting.jpg
END:VEVENT
BEGIN:VEVENT
DTSTART;TZID=America/New_York:20231011T193000
DTEND;TZID=America/New_York:20231011T200000
DTSTAMP:20260420T210010
CREATED:20230215T192653Z
LAST-MODIFIED:20230215T192653Z
UID:3408-1697052600-1697054400@bearbaitradioclub.com
SUMMARY:October 2023 Monthly Net
DESCRIPTION:The BBRC Monthly Net for October will be on the Clay VHF repeater Wednesday October 11\, 2023 at 7:30 PM.
URL:https://bearbaitradioclub.com/index.php/event/october-2023-monthly-net/
LOCATION:Clay VHF Repeater\, 146.640- MHz 131.8 PL\, Clay\, NY\, 13041\, United States
CATEGORIES:Monthly Net
ATTACH;FMTTYPE=image/jpeg:https://bearbaitradioclub.com/wp-content/uploads/2018/05/net-pics.jpg
END:VEVENT
BEGIN:VEVENT
DTSTART;TZID=America/New_York:20230923T080000
DTEND;TZID=America/New_York:20230924T170000
DTSTAMP:20260420T210010
CREATED:20230215T204011Z
LAST-MODIFIED:20230803T183219Z
UID:3443-1695456000-1695574800@bearbaitradioclub.com
SUMMARY:September 2023 Technician Licensing Weekend Class & VE Session
DESCRIPTION:Ham friends: \nOur next Technician class will be September 23 and 24\, 2023 at the Bear Bait Radio Club World Headquarters (the former Clay PD Offices) in the Clay Highway Building (4483 Route 31)  in Clay\, NY.  Class will run from 8:00 AM to 5:00 PM Saturday and Sunday with the VE Testing Sunday at 5:00 PM. \nThere is no cost for the class.  There is a nominal cost for lunch or you can bring your own. \nThe VE Testing costs $14.00. \nIf you know of folks who want their tickets\, have them use the registration link below or the form at the bottom of this post: \nOnline registration \nFor further information or questions\, please contact the instructor\, Scott Marriam\, at WA2DTN1@gmail.com. \nRegistration deadline is September 16\, 2023 at 6:00 PM. \nThank you
URL:https://bearbaitradioclub.com/index.php/event/september-2023-technician-licensing-weekend-class-ve-session/
LOCATION:BBRC Headquarters – Clay Highway Bldg\, 4483 State Route 31\, Clay\, NY\, 13041\, United States
CATEGORIES:Training Sessions
ATTACH;FMTTYPE=image/jpeg:https://bearbaitradioclub.com/wp-content/uploads/2018/11/BBRC_HQ.jpg
ORGANIZER;CN="WA2DTN":MAILTO:wa2dtn1@gmail.com
END:VEVENT
BEGIN:VEVENT
DTSTART;TZID=America/New_York:20230920T183000
DTEND;TZID=America/New_York:20230920T203000
DTSTAMP:20260420T210010
CREATED:20230215T194404Z
LAST-MODIFIED:20230215T194404Z
UID:3430-1695234600-1695241800@bearbaitradioclub.com
SUMMARY:September 2023 Monthly Meeting
DESCRIPTION:The regular monthly meeting for September will be on Wednesday September 20\, 2023 at 6:30 PM at the Club Headquarters behind the Clay Highway Department
URL:https://bearbaitradioclub.com/index.php/event/september-2023-monthly-meeting/
LOCATION:BBRC Headquarters – Clay Highway Bldg\, 4483 State Route 31\, Clay\, NY\, 13041\, United States
CATEGORIES:Club Meeting
ATTACH;FMTTYPE=image/jpeg:https://bearbaitradioclub.com/wp-content/uploads/2018/05/MonthlyMeeting.jpg
END:VEVENT
BEGIN:VEVENT
DTSTART;TZID=America/New_York:20230916T060000
DTEND;TZID=America/New_York:20230916T130000
DTSTAMP:20260420T210010
CREATED:20230215T204426Z
LAST-MODIFIED:20230215T204437Z
UID:3447-1694844000-1694869200@bearbaitradioclub.com
SUMMARY:September 2023 Tailgate Fest
DESCRIPTION:Admission: $5\nTailgating/vendors: $5 \nJoin us for our Annual Tailgate Fest at the Bear Bait Radio Headquarters
URL:https://bearbaitradioclub.com/index.php/event/september-2023-tailgate-fest/
LOCATION:BBRC Headquarters – Clay Highway Bldg\, 4483 State Route 31\, Clay\, NY\, 13041\, United States
CATEGORIES:Special Event
ATTACH;FMTTYPE=image/jpeg:https://bearbaitradioclub.com/wp-content/uploads/2018/05/Bear-Bait-Logo-1.1-e1629396122782.jpg
END:VEVENT
BEGIN:VEVENT
DTSTART;TZID=America/New_York:20230913T193000
DTEND;TZID=America/New_York:20230913T200000
DTSTAMP:20260420T210010
CREATED:20230215T192524Z
LAST-MODIFIED:20230215T192543Z
UID:3406-1694633400-1694635200@bearbaitradioclub.com
SUMMARY:September 2023 Monthly Net
DESCRIPTION:The BBRC Monthly Net for September will be on the Clay VHF repeater Wednesday September 13\, 2023 at 7:30 PM.
URL:https://bearbaitradioclub.com/index.php/event/september-2023-monthly-net/
LOCATION:Clay VHF Repeater\, 146.640- MHz 131.8 PL\, Clay\, NY\, 13041\, United States
CATEGORIES:Monthly Net
ATTACH;FMTTYPE=image/jpeg:https://bearbaitradioclub.com/wp-content/uploads/2018/05/net-pics.jpg
END:VEVENT
BEGIN:VEVENT
DTSTART;TZID=America/New_York:20230816T183000
DTEND;TZID=America/New_York:20230816T203000
DTSTAMP:20260420T210010
CREATED:20230215T194225Z
LAST-MODIFIED:20230215T194225Z
UID:3428-1692210600-1692217800@bearbaitradioclub.com
SUMMARY:August 2023 Monthly Meeting
DESCRIPTION:The regular monthly meeting for August will be on Wednesday August 16\, 2023 at 6:30 PM at the Club Headquarters behind the Clay Highway Department
URL:https://bearbaitradioclub.com/index.php/event/august-2023-monthly-meeting/
LOCATION:BBRC Headquarters – Clay Highway Bldg\, 4483 State Route 31\, Clay\, NY\, 13041\, United States
CATEGORIES:Club Meeting
ATTACH;FMTTYPE=image/jpeg:https://bearbaitradioclub.com/wp-content/uploads/2018/05/MonthlyMeeting.jpg
END:VEVENT
BEGIN:VEVENT
DTSTART;TZID=America/New_York:20230809T193000
DTEND;TZID=America/New_York:20230809T200000
DTSTAMP:20260420T210010
CREATED:20230215T192403Z
LAST-MODIFIED:20230215T192403Z
UID:3404-1691609400-1691611200@bearbaitradioclub.com
SUMMARY:August 2023 Monthly Net
DESCRIPTION:The BBRC Monthly Net for August will be on the Clay VHF repeater Wednesday August 9\, 2023 at 7:30 PM.
URL:https://bearbaitradioclub.com/index.php/event/august-2023-monthly-net/
LOCATION:Clay VHF Repeater\, 146.640- MHz 131.8 PL\, Clay\, NY\, 13041\, United States
CATEGORIES:Monthly Net
ATTACH;FMTTYPE=image/jpeg:https://bearbaitradioclub.com/wp-content/uploads/2018/05/net-pics.jpg
END:VEVENT
BEGIN:VEVENT
DTSTART;TZID=America/New_York:20230719T183000
DTEND;TZID=America/New_York:20230719T203000
DTSTAMP:20260420T210010
CREATED:20230215T194109Z
LAST-MODIFIED:20230215T194109Z
UID:3426-1689791400-1689798600@bearbaitradioclub.com
SUMMARY:July 2023 Monthly Meeting
DESCRIPTION:The regular monthly meeting for July will be on Wednesday July 19\, 2023 at 6:30 PM at the Club Headquarters behind the Clay Highway Department
URL:https://bearbaitradioclub.com/index.php/event/july-2023-monthly-meeting/
LOCATION:BBRC Headquarters – Clay Highway Bldg\, 4483 State Route 31\, Clay\, NY\, 13041\, United States
CATEGORIES:Club Meeting
ATTACH;FMTTYPE=image/jpeg:https://bearbaitradioclub.com/wp-content/uploads/2018/05/MonthlyMeeting.jpg
END:VEVENT
END:VCALENDAR